BEGIN:VCALENDAR
VERSION:2.0
PRODID:-//midwestchildcare.org//NONSGML kigkonsult.se iCalcreator 2.30.10//
CALSCALE:GREGORIAN
METHOD:PUBLISH
UID:f44b73d5-fadf-4830-bc75-a0e5a33edce9
X-WR-CALDESC:How to Catch a Leprechaun: An Interactive Preschool Class\n\nY
 ou are invited to a Zoom meeting.\nWhen: March 17\, 2022 10:00 AM Central 
 Time (US and Canada)\n\nRegister in advance for this meeting:\nhttps://us0
 2web.zoom.us/meeting/register/tZMod-irpjsiGNWbl7BLwzOmlc11o6GnqEVH\n\nAfte
 r registering\, you will receive a confirmation email containing informati
 on about joining the meeting.\n\n
X-WR-RELCALID:dd5ff511abb1a7a9e6b810656aaed26f
X-WR-TIMEZONE:America/Chicago
BEGIN:VTIMEZONE
TZID:America/Chicago
BEGIN:STANDARD
TZNAME:CST
DTSTART:20211107T020000
TZOFFSETFROM:-0500
TZOFFSETTO:-0600
RDATE:20221106T020000
END:STANDARD
BEGIN:DAYLIGHT
TZNAME:CDT
DTSTART:20220313T020000
TZOFFSETFROM:-0600
TZOFFSETTO:-0500
RDATE:20230312T020000
END:DAYLIGHT
END:VTIMEZONE
BEGIN:VEVENT
UID:756ca569-2171-449c-9f5b-b526d880d67a
DTSTAMP:20260425T112016Z
DESCRIPTION:How to Catch a Leprechaun: An Interactive Preschool Class\n\nYo
 u are invited to a Zoom meeting.\nWhen: March 17\, 2022 10:00 AM Central T
 ime (US and Canada)\n\nRegister in advance for this meeting:\nhttps://us02
 web.zoom.us/meeting/register/tZMod-irpjsiGNWbl7BLwzOmlc11o6GnqEVH\n\nAfter
  registering\, you will receive a confirmation email containing informatio
 n about joining the meeting.\n\n
DTSTART;TZID=America/Chicago:20220317T100000
DTEND;TZID=America/Chicago:20220317T103000
LOCATION:https://us02web.zoom.us/meeting/register/tZMod-irpjsiGNWbl7BLwzOml
 c11o6GnqEVH
SUMMARY:How to Catch a Leprechaun: An Interactive Preschool Class
END:VEVENT
END:VCALENDAR
