BEGIN:VCALENDAR
VERSION:2.0
PRODID:-//midwestchildcare.org//NONSGML kigkonsult.se iCalcreator 2.30.10//
CALSCALE:GREGORIAN
METHOD:PUBLISH
UID:ea8f36d3-bed6-40d7-ab7a-63c218432030
X-WR-CALDESC:How to Catch a Leprechaun: An Interactive Preschool Class\n\nY
 ou are invited to a Zoom meeting.\nWhen: March 17\, 2022 09:30 AM Central 
 Time (US and Canada)\n\nRegister in advance for this meeting:\nhttps://us0
 2web.zoom.us/meeting/register/tZAof--rpjksGNWzyBwd6r-4iCBAz4Nd2jNR\n\nAfte
 r registering\, you will receive a confirmation email containing informati
 on about joining the meeting.\n\n
X-WR-RELCALID:5bf4c4570afc6f8a75893c2495f13bd7
X-WR-TIMEZONE:America/Chicago
BEGIN:VTIMEZONE
TZID:America/Chicago
BEGIN:STANDARD
TZNAME:CST
DTSTART:20211107T020000
TZOFFSETFROM:-0500
TZOFFSETTO:-0600
RDATE:20221106T020000
END:STANDARD
BEGIN:DAYLIGHT
TZNAME:CDT
DTSTART:20220313T020000
TZOFFSETFROM:-0600
TZOFFSETTO:-0500
RDATE:20230312T020000
END:DAYLIGHT
END:VTIMEZONE
BEGIN:VEVENT
UID:25ac2bfa-e3f0-4c80-a938-dc3e2f8b8904
DTSTAMP:20260425T111825Z
DESCRIPTION:How to Catch a Leprechaun: An Interactive Preschool Class\n\nYo
 u are invited to a Zoom meeting.\nWhen: March 17\, 2022 09:30 AM Central T
 ime (US and Canada)\n\nRegister in advance for this meeting:\nhttps://us02
 web.zoom.us/meeting/register/tZAof--rpjksGNWzyBwd6r-4iCBAz4Nd2jNR\n\nAfter
  registering\, you will receive a confirmation email containing informatio
 n about joining the meeting.\n\n
DTSTART;TZID=America/Chicago:20220317T093000
DTEND;TZID=America/Chicago:20220317T100000
LOCATION:https://us02web.zoom.us/meeting/register/tZAof--rpjksGNWzyBwd6r-4i
 CBAz4Nd2jNR
SUMMARY:How to Catch a Leprechaun: An Interactive Preschool Class
END:VEVENT
END:VCALENDAR
