BEGIN:VCALENDAR
VERSION:2.0
PRODID:-//midwestchildcare.org//NONSGML kigkonsult.se iCalcreator 2.30.10//
CALSCALE:GREGORIAN
METHOD:PUBLISH
UID:308785d6-ac67-4d64-a2d0-941a3da03b15
X-WR-CALDESC:How to Catch a Leprechaun: An Interactive Preschool Class\n\nY
 ou are invited to a Zoom meeting.\nWhen: March 17\, 2022 09:00 AM Central 
 Time (US and Canada)\n\nRegister in advance for this meeting:\nhttps://us0
 2web.zoom.us/meeting/register/tZ0udeGvpzwsHNegTFhxSiCC8--q3H3CAtZK\n\nAfte
 r registering\, you will receive a confirmation email containing informati
 on about joining the meeting.\n\n
X-WR-RELCALID:a65e050a0334b62b0205f6a80d26ae67
X-WR-TIMEZONE:America/Chicago
BEGIN:VTIMEZONE
TZID:America/Chicago
BEGIN:STANDARD
TZNAME:CST
DTSTART:20211107T020000
TZOFFSETFROM:-0500
TZOFFSETTO:-0600
RDATE:20221106T020000
END:STANDARD
BEGIN:DAYLIGHT
TZNAME:CDT
DTSTART:20220313T020000
TZOFFSETFROM:-0600
TZOFFSETTO:-0500
RDATE:20230312T020000
END:DAYLIGHT
END:VTIMEZONE
BEGIN:VEVENT
UID:99645d22-a8c4-454e-802d-563a7123f4ab
DTSTAMP:20260425T114303Z
DESCRIPTION:How to Catch a Leprechaun: An Interactive Preschool Class\n\nYo
 u are invited to a Zoom meeting.\nWhen: March 17\, 2022 09:00 AM Central T
 ime (US and Canada)\n\nRegister in advance for this meeting:\nhttps://us02
 web.zoom.us/meeting/register/tZ0udeGvpzwsHNegTFhxSiCC8--q3H3CAtZK\n\nAfter
  registering\, you will receive a confirmation email containing informatio
 n about joining the meeting.\n\n
DTSTART;TZID=America/Chicago:20220317T090000
DTEND;TZID=America/Chicago:20220317T093000
LOCATION:https://us02web.zoom.us/meeting/register/tZ0udeGvpzwsHNegTFhxSiCC8
 --q3H3CAtZK
SUMMARY:How to Catch a Leprechaun: An Interactive Preschool Class
END:VEVENT
END:VCALENDAR
