BEGIN:VCALENDAR
VERSION:2.0
PRODID:-//midwestchildcare.org//NONSGML kigkonsult.se iCalcreator 2.30.10//
CALSCALE:GREGORIAN
METHOD:PUBLISH
UID:57efc882-d7f2-4aa3-8dfa-223e45b0e802
X-WR-CALDESC:EMS Safety Childcare Provider \n\nMidwest Childcare Associatio
 n - Mar\n\nCost: $65 per person\nClass Start Date:03/17/2022 \nClass Time:
  6:00 PM - 10:00 PM\nLocation:	\n7701 Pacific St\nOmaha\, NE  68114
X-WR-RELCALID:6965046f59fa2fc73237b3e83c217f6f
X-WR-TIMEZONE:America/Chicago
BEGIN:VTIMEZONE
TZID:America/Chicago
BEGIN:STANDARD
TZNAME:CST
DTSTART:20211107T020000
TZOFFSETFROM:-0500
TZOFFSETTO:-0600
RDATE:20221106T020000
END:STANDARD
BEGIN:DAYLIGHT
TZNAME:CDT
DTSTART:20220313T020000
TZOFFSETFROM:-0600
TZOFFSETTO:-0500
RDATE:20230312T020000
END:DAYLIGHT
END:VTIMEZONE
BEGIN:VEVENT
UID:927a2625-9e29-4979-bd30-e83827c4c81e
DTSTAMP:20260425T111315Z
DESCRIPTION:EMS Safety Childcare Provider \n\nMidwest Childcare Association
  - Mar\n\nCost: $65 per person\nClass Start Date:03/17/2022 \nClass Time: 
 6:00 PM - 10:00 PM\nLocation:	\n7701 Pacific St\nOmaha\, NE  68114
DTSTART;TZID=America/Chicago:20220317T180000
DTEND;TZID=America/Chicago:20220317T220000
LOCATION:
SUMMARY:CPR/AED & First Aid Classes
END:VEVENT
END:VCALENDAR
