BEGIN:VCALENDAR
VERSION:2.0
PRODID:-//midwestchildcare.org//NONSGML kigkonsult.se iCalcreator 2.30.10//
CALSCALE:GREGORIAN
METHOD:PUBLISH
UID:99fab845-c66d-4fd9-b000-b8106bc6b498
X-WR-CALDESC:Please register for Food Allergies and Intolerances In Depth o
 n Mar 7\, 2022 1:00 PM CST at:\n\nhttps://attendee.gotowebinar.com/registe
 r/7543864048063580688\n\nAfter registering\, you will receive a confirmati
 on email containing information about joining the webinar.
X-WR-RELCALID:3453be46d607a70c9fa03b3a2376ba01
X-WR-TIMEZONE:America/Chicago
BEGIN:VTIMEZONE
TZID:America/Chicago
BEGIN:STANDARD
TZNAME:CST
DTSTART:20211107T020000
TZOFFSETFROM:-0500
TZOFFSETTO:-0600
RDATE:20221106T020000
END:STANDARD
BEGIN:DAYLIGHT
TZNAME:CDT
DTSTART:20210314T020000
TZOFFSETFROM:-0600
TZOFFSETTO:-0500
RDATE:20220313T020000
RDATE:20230312T020000
END:DAYLIGHT
END:VTIMEZONE
BEGIN:VEVENT
UID:ce946d6d-cd24-4851-937f-5bf58eeb61c2
DTSTAMP:20260425T113149Z
DESCRIPTION:Please register for Food Allergies and Intolerances In Depth on
  Mar 7\, 2022 1:00 PM CST at:\n\nhttps://attendee.gotowebinar.com/register
 /7543864048063580688\n\nAfter registering\, you will receive a confirmatio
 n email containing information about joining the webinar.
DTSTART;TZID=America/Chicago:20220307T130000
DTEND;TZID=America/Chicago:20220307T140000
LOCATION:
SUMMARY:Food Allergies and Intolerances In Depth | Webinar
END:VEVENT
END:VCALENDAR
