BEGIN:VCALENDAR
VERSION:2.0
PRODID:-//midwestchildcare.org//NONSGML kigkonsult.se iCalcreator 2.30.10//
CALSCALE:GREGORIAN
METHOD:PUBLISH
UID:bee1fe5d-66f2-485c-a8df-a07cab39e648
X-WR-CALDESC:Infant Feeding Best Practices | Webinar\n\nPlease register for
  Infant Feeding Best Practices on Mar 1\, 2022 1:00 PM CST at:\n\nhttps://
 attendee.gotowebinar.com/register/4931179228935710735\n\nAfter registering
 \, you will receive a confirmation email containing information about join
 ing the webinar.
X-WR-RELCALID:5c3cdea8202fba83fa899bce3a86b883
X-WR-TIMEZONE:America/Chicago
BEGIN:VTIMEZONE
TZID:America/Chicago
BEGIN:STANDARD
TZNAME:CST
DTSTART:20211107T020000
TZOFFSETFROM:-0500
TZOFFSETTO:-0600
RDATE:20221106T020000
END:STANDARD
BEGIN:DAYLIGHT
TZNAME:CDT
DTSTART:20210314T020000
TZOFFSETFROM:-0600
TZOFFSETTO:-0500
RDATE:20220313T020000
RDATE:20230312T020000
END:DAYLIGHT
END:VTIMEZONE
BEGIN:VEVENT
UID:451e0a31-e6f8-44d2-8a01-ab136630fbbe
DTSTAMP:20260425T112016Z
DESCRIPTION:Infant Feeding Best Practices | Webinar\n\nPlease register for 
 Infant Feeding Best Practices on Mar 1\, 2022 1:00 PM CST at:\n\nhttps://a
 ttendee.gotowebinar.com/register/4931179228935710735\n\nAfter registering\
 , you will receive a confirmation email containing information about joini
 ng the webinar.
DTSTART;TZID=America/Chicago:20220301T130000
DTEND;TZID=America/Chicago:20220301T140000
LOCATION:
SUMMARY:Infant Feeding Best Practices | Webinar
END:VEVENT
END:VCALENDAR
