BEGIN:VCALENDAR
VERSION:2.0
PRODID:-//midwestchildcare.org//NONSGML kigkonsult.se iCalcreator 2.30.10//
CALSCALE:GREGORIAN
METHOD:PUBLISH
UID:eb536000-d4b4-4b33-b55b-53cb2ba29255
X-WR-CALDESC:Bear's Loose Tooth: An Interactive Preschool Class\n\nYou are 
 invited to a Zoom meeting.\nWhen: Feb 24\, 2022 10:00 AM Central Time (US 
 and Canada)\n\nRegister in advance for this meeting:\nhttps://us02web.zoom
 .us/meeting/register/tZcrfu2vrz8tHtx_9iHTZ8zQ3VjWAlrxlf_p\n\nAfter registe
 ring\, you will receive a confirmation email containing information about 
 joining the meeting.
X-WR-RELCALID:ece89003ff6ae1246a8947d9b458c8c6
X-WR-TIMEZONE:America/Chicago
BEGIN:VTIMEZONE
TZID:America/Chicago
BEGIN:STANDARD
TZNAME:CST
DTSTART:20211107T020000
TZOFFSETFROM:-0500
TZOFFSETTO:-0600
RDATE:20221106T020000
END:STANDARD
BEGIN:DAYLIGHT
TZNAME:CDT
DTSTART:20210314T020000
TZOFFSETFROM:-0600
TZOFFSETTO:-0500
RDATE:20220313T020000
RDATE:20230312T020000
END:DAYLIGHT
END:VTIMEZONE
BEGIN:VEVENT
UID:c587d5be-ac52-408b-9ba2-dbd7ed0bf190
DTSTAMP:20260425T132433Z
DESCRIPTION:Bear's Loose Tooth: An Interactive Preschool Class\n\nYou are i
 nvited to a Zoom meeting.\nWhen: Feb 24\, 2022 10:00 AM Central Time (US a
 nd Canada)\n\nRegister in advance for this meeting:\nhttps://us02web.zoom.
 us/meeting/register/tZcrfu2vrz8tHtx_9iHTZ8zQ3VjWAlrxlf_p\n\nAfter register
 ing\, you will receive a confirmation email containing information about j
 oining the meeting.
DTSTART;TZID=America/Chicago:20220224T100000
DTEND;TZID=America/Chicago:20220224T110000
LOCATION:
SUMMARY:Bear's Loose Tooth: An Interactive Preschool Class
END:VEVENT
END:VCALENDAR
