BEGIN:VCALENDAR
VERSION:2.0
PRODID:-//midwestchildcare.org//NONSGML kigkonsult.se iCalcreator 2.30.10//
CALSCALE:GREGORIAN
METHOD:PUBLISH
UID:088d1158-a173-42c4-a222-3a90f680e059
X-WR-CALDESC:Bear's Loose Tooth: An Interactive Preschool Class\n\nYou are 
 invited to a Zoom meeting.\nWhen: Feb 24\, 2022 09:00 AM Central Time (US 
 and Canada)\n\nRegister in advance for this meeting:\nhttps://us02web.zoom
 .us/meeting/register/tZMvdeuvpjguGNNlDvzaTGeNKG9NJf_iSmPH\n\nAfter registe
 ring\, you will receive a confirmation email containing information about 
 joining the meeting.
X-WR-RELCALID:25837d6ed25529f1ba97b915ff3bc915
X-WR-TIMEZONE:America/Chicago
BEGIN:VTIMEZONE
TZID:America/Chicago
BEGIN:STANDARD
TZNAME:CST
DTSTART:20211107T020000
TZOFFSETFROM:-0500
TZOFFSETTO:-0600
RDATE:20221106T020000
END:STANDARD
BEGIN:DAYLIGHT
TZNAME:CDT
DTSTART:20210314T020000
TZOFFSETFROM:-0600
TZOFFSETTO:-0500
RDATE:20220313T020000
RDATE:20230312T020000
END:DAYLIGHT
END:VTIMEZONE
BEGIN:VEVENT
UID:6e59ab17-fe7a-433a-a18c-304d777eb62c
DTSTAMP:20260425T131702Z
DESCRIPTION:Bear's Loose Tooth: An Interactive Preschool Class\n\nYou are i
 nvited to a Zoom meeting.\nWhen: Feb 24\, 2022 09:00 AM Central Time (US a
 nd Canada)\n\nRegister in advance for this meeting:\nhttps://us02web.zoom.
 us/meeting/register/tZMvdeuvpjguGNNlDvzaTGeNKG9NJf_iSmPH\n\nAfter register
 ing\, you will receive a confirmation email containing information about j
 oining the meeting.
DTSTART;TZID=America/Chicago:20220224T090000
DTEND;TZID=America/Chicago:20220224T100000
LOCATION:
SUMMARY:Bear's Loose Tooth: An Interactive Preschool Class
END:VEVENT
END:VCALENDAR
