BEGIN:VCALENDAR
VERSION:2.0
PRODID:-//midwestchildcare.org//NONSGML kigkonsult.se iCalcreator 2.30.10//
CALSCALE:GREGORIAN
METHOD:PUBLISH
UID:13b24413-271b-4ea2-bb0c-b0763e978cd7
X-WR-CALDESC:Nutrition and Dental Health | Webinar\n\nPlease register for N
 utrition and Dental Health on Feb 23\, 2022 7:00 PM CST at:\n\nhttps://att
 endee.gotowebinar.com/register/332191470297487376\n\nAfter registering\, y
 ou will receive a confirmation email containing information about joining 
 the webinar.
X-WR-RELCALID:f618235b587b2d15928f5fcf1a0bd653
X-WR-TIMEZONE:America/Chicago
BEGIN:VTIMEZONE
TZID:America/Chicago
BEGIN:STANDARD
TZNAME:CST
DTSTART:20211107T020000
TZOFFSETFROM:-0500
TZOFFSETTO:-0600
RDATE:20221106T020000
END:STANDARD
BEGIN:DAYLIGHT
TZNAME:CDT
DTSTART:20210314T020000
TZOFFSETFROM:-0600
TZOFFSETTO:-0500
RDATE:20220313T020000
RDATE:20230312T020000
END:DAYLIGHT
END:VTIMEZONE
BEGIN:VEVENT
UID:2c8fc5cc-0b7d-4bab-b2f6-0520f1c167d0
DTSTAMP:20260425T131400Z
DESCRIPTION:Nutrition and Dental Health | Webinar\n\nPlease register for Nu
 trition and Dental Health on Feb 23\, 2022 7:00 PM CST at:\n\nhttps://atte
 ndee.gotowebinar.com/register/332191470297487376\n\nAfter registering\, yo
 u will receive a confirmation email containing information about joining t
 he webinar.
DTSTART;TZID=America/Chicago:20220223T190000
DTEND;TZID=America/Chicago:20220223T200000
LOCATION:
SUMMARY:Nutrition and Dental Health | Webinar
END:VEVENT
END:VCALENDAR
