BEGIN:VCALENDAR
VERSION:2.0
PRODID:-//midwestchildcare.org//NONSGML kigkonsult.se iCalcreator 2.30.10//
CALSCALE:GREGORIAN
METHOD:PUBLISH
UID:7d850e95-1ba1-491b-a843-e5700dc05c21
X-WR-CALDESC:Tacky the Penguin: An Interactive Preschool Class\n\nYou are i
 nvited to a Zoom meeting.\nWhen: Feb 17\, 2022 10:00 AM Central Time (US a
 nd Canada)\n\nRegister in advance for this meeting:\nhttps://us02web.zoom.
 us/meeting/register/tZUrfuGrrz0uHNWgd5FkGdV7ykg4KUPkZV1W\n\nAfter register
 ing\, you will receive a confirmation email containing information about j
 oining the meeting.\n
X-WR-RELCALID:394fd207d277eda53b7acf7f7702c7b8
X-WR-TIMEZONE:America/Chicago
BEGIN:VTIMEZONE
TZID:America/Chicago
BEGIN:STANDARD
TZNAME:CST
DTSTART:20211107T020000
TZOFFSETFROM:-0500
TZOFFSETTO:-0600
RDATE:20221106T020000
END:STANDARD
BEGIN:DAYLIGHT
TZNAME:CDT
DTSTART:20210314T020000
TZOFFSETFROM:-0600
TZOFFSETTO:-0500
RDATE:20220313T020000
RDATE:20230312T020000
END:DAYLIGHT
END:VTIMEZONE
BEGIN:VEVENT
UID:fe7ab2ea-9619-4c36-b4da-91da45a23ff0
DTSTAMP:20260425T132244Z
DESCRIPTION:Tacky the Penguin: An Interactive Preschool Class\n\nYou are in
 vited to a Zoom meeting.\nWhen: Feb 17\, 2022 10:00 AM Central Time (US an
 d Canada)\n\nRegister in advance for this meeting:\nhttps://us02web.zoom.u
 s/meeting/register/tZUrfuGrrz0uHNWgd5FkGdV7ykg4KUPkZV1W\n\nAfter registeri
 ng\, you will receive a confirmation email containing information about jo
 ining the meeting.\n
DTSTART;TZID=America/Chicago:20220217T100000
DTEND;TZID=America/Chicago:20220217T110000
LOCATION:
SUMMARY:Tacky the Penguin: An Interactive Preschool Class
END:VEVENT
END:VCALENDAR
