BEGIN:VCALENDAR
VERSION:2.0
PRODID:-//midwestchildcare.org//NONSGML kigkonsult.se iCalcreator 2.30.10//
CALSCALE:GREGORIAN
METHOD:PUBLISH
UID:a5f6b571-dccd-464c-8ea4-a69aebe8c730
X-WR-CALDESC:Tacky the Penguin: An Interactive Preschool Class\n\nYou are i
 nvited to a Zoom meeting.\nWhen: Feb 17\, 2022 09:00 AM Central Time (US a
 nd Canada)\n\nRegister in advance for this meeting:\nhttps://us02web.zoom.
 us/meeting/register/tZYtdeiqrz8rH9KNeapoZRlo90-zR20UhLwx\n\nAfter register
 ing\, you will receive a confirmation email containing information about j
 oining the meeting.
X-WR-RELCALID:a6786c554d61cfac1c967354e0a050f2
X-WR-TIMEZONE:America/Chicago
BEGIN:VTIMEZONE
TZID:America/Chicago
BEGIN:STANDARD
TZNAME:CST
DTSTART:20211107T020000
TZOFFSETFROM:-0500
TZOFFSETTO:-0600
RDATE:20221106T020000
END:STANDARD
BEGIN:DAYLIGHT
TZNAME:CDT
DTSTART:20210314T020000
TZOFFSETFROM:-0600
TZOFFSETTO:-0500
RDATE:20220313T020000
RDATE:20230312T020000
END:DAYLIGHT
END:VTIMEZONE
BEGIN:VEVENT
UID:8b9e0179-e9b5-4a20-8477-bb528a8def43
DTSTAMP:20260425T131206Z
DESCRIPTION:Tacky the Penguin: An Interactive Preschool Class\n\nYou are in
 vited to a Zoom meeting.\nWhen: Feb 17\, 2022 09:00 AM Central Time (US an
 d Canada)\n\nRegister in advance for this meeting:\nhttps://us02web.zoom.u
 s/meeting/register/tZYtdeiqrz8rH9KNeapoZRlo90-zR20UhLwx\n\nAfter registeri
 ng\, you will receive a confirmation email containing information about jo
 ining the meeting.
DTSTART;TZID=America/Chicago:20220217T090000
DTEND;TZID=America/Chicago:20220217T100000
LOCATION:
SUMMARY:Tacky the Penguin: An Interactive Preschool Class
END:VEVENT
END:VCALENDAR
