BEGIN:VCALENDAR
VERSION:2.0
PRODID:-//midwestchildcare.org//NONSGML kigkonsult.se iCalcreator 2.30.10//
CALSCALE:GREGORIAN
METHOD:PUBLISH
UID:0de4813a-6704-4c6c-b6e1-e81653d801f0
X-WR-CALDESC:EMS Safety Childcare Provider\n\nTop Notch Training\n\nClass S
 tart Date:02/17/2022 \nClass Time: 6:00 PM - 10:00 PM\nLocation:	\n6204 S 5
 0th St\nOmaha\, NE  68117
X-WR-RELCALID:640074432f2556296379aa368909edcf
X-WR-TIMEZONE:America/Chicago
BEGIN:VTIMEZONE
TZID:America/Chicago
BEGIN:STANDARD
TZNAME:CST
DTSTART:20211107T020000
TZOFFSETFROM:-0500
TZOFFSETTO:-0600
RDATE:20221106T020000
END:STANDARD
BEGIN:DAYLIGHT
TZNAME:CDT
DTSTART:20210314T020000
TZOFFSETFROM:-0600
TZOFFSETTO:-0500
RDATE:20220313T020000
RDATE:20230312T020000
END:DAYLIGHT
END:VTIMEZONE
BEGIN:VEVENT
UID:1b2799b0-ced3-4819-b6b3-5cfc041650a5
DTSTAMP:20260425T131940Z
DESCRIPTION:EMS Safety Childcare Provider\n\nTop Notch Training\n\nClass St
 art Date:02/17/2022 \nClass Time: 6:00 PM - 10:00 PM\nLocation:	\n6204 S 50
 th St\nOmaha\, NE  68117
DTSTART;TZID=America/Chicago:20220217T180000
DTEND;TZID=America/Chicago:20220217T220000
LOCATION:
SUMMARY:CPR/AED & First Aid Classes
END:VEVENT
END:VCALENDAR
