BEGIN:VCALENDAR
VERSION:2.0
PRODID:-//midwestchildcare.org//NONSGML kigkonsult.se iCalcreator 2.30.10//
CALSCALE:GREGORIAN
METHOD:PUBLISH
UID:3c3e392f-cdc7-4686-aa45-a87d8cba9e3a
X-WR-CALDESC:My Heart is Like a Zoo: An Interactive Preschool Class\n\nYou 
 are invited to a Zoom meeting.\nWhen: Feb 10\, 2022 10:00 AM Central Time 
 (US and Canada)\n\nRegister in advance for this meeting:\nhttps://us02web.
 zoom.us/meeting/register/tZcqf-uopzMiHt1_ADoa9unf6cmvsIaC6WyC\n\nAfter reg
 istering\, you will receive a confirmation email containing information ab
 out joining the meeting.
X-WR-RELCALID:f9ef939cec22cc6e5550f2970aa582d0
X-WR-TIMEZONE:America/Chicago
BEGIN:VTIMEZONE
TZID:America/Chicago
BEGIN:STANDARD
TZNAME:CST
DTSTART:20211107T020000
TZOFFSETFROM:-0500
TZOFFSETTO:-0600
RDATE:20221106T020000
END:STANDARD
BEGIN:DAYLIGHT
TZNAME:CDT
DTSTART:20210314T020000
TZOFFSETFROM:-0600
TZOFFSETTO:-0500
RDATE:20220313T020000
RDATE:20230312T020000
END:DAYLIGHT
END:VTIMEZONE
BEGIN:VEVENT
UID:4be47635-ffe5-4f73-967b-d9a6f6bbbed6
DTSTAMP:20260425T124746Z
DESCRIPTION:My Heart is Like a Zoo: An Interactive Preschool Class\n\nYou a
 re invited to a Zoom meeting.\nWhen: Feb 10\, 2022 10:00 AM Central Time (
 US and Canada)\n\nRegister in advance for this meeting:\nhttps://us02web.z
 oom.us/meeting/register/tZcqf-uopzMiHt1_ADoa9unf6cmvsIaC6WyC\n\nAfter regi
 stering\, you will receive a confirmation email containing information abo
 ut joining the meeting.
DTSTART;TZID=America/Chicago:20220210T100000
DTEND;TZID=America/Chicago:20220210T103000
LOCATION:
SUMMARY:My Heart is Like a Zoo: An Interactive Preschool Class
END:VEVENT
END:VCALENDAR
