BEGIN:VCALENDAR
VERSION:2.0
PRODID:-//midwestchildcare.org//NONSGML kigkonsult.se iCalcreator 2.30.10//
CALSCALE:GREGORIAN
METHOD:PUBLISH
UID:4c76bc91-02c9-4a58-8d0f-0c799e96c31c
X-WR-CALDESC:My Heart is Like a Zoo: An Interactive Preschool Class\n\nYou 
 are invited to a Zoom meeting.\nWhen: Feb 10\, 2022 09:30 AM Central Time 
 (US and Canada)\n\nRegister in advance for this meeting:\nhttps://us02web.
 zoom.us/meeting/register/tZAtdeytqj0iGdaGR0IyzUW0QZVkdSzBOfXA\n\nAfter reg
 istering\, you will receive a confirmation email containing information ab
 out joining the meeting.
X-WR-RELCALID:b72fead8eafd11ab9cd397119f257ebb
X-WR-TIMEZONE:America/Chicago
BEGIN:VTIMEZONE
TZID:America/Chicago
BEGIN:STANDARD
TZNAME:CST
DTSTART:20211107T020000
TZOFFSETFROM:-0500
TZOFFSETTO:-0600
RDATE:20221106T020000
END:STANDARD
BEGIN:DAYLIGHT
TZNAME:CDT
DTSTART:20210314T020000
TZOFFSETFROM:-0600
TZOFFSETTO:-0500
RDATE:20220313T020000
RDATE:20230312T020000
END:DAYLIGHT
END:VTIMEZONE
BEGIN:VEVENT
UID:8bc6ed10-ac5f-4897-8627-fd2c9d63283a
DTSTAMP:20260425T131354Z
DESCRIPTION:My Heart is Like a Zoo: An Interactive Preschool Class\n\nYou a
 re invited to a Zoom meeting.\nWhen: Feb 10\, 2022 09:30 AM Central Time (
 US and Canada)\n\nRegister in advance for this meeting:\nhttps://us02web.z
 oom.us/meeting/register/tZAtdeytqj0iGdaGR0IyzUW0QZVkdSzBOfXA\n\nAfter regi
 stering\, you will receive a confirmation email containing information abo
 ut joining the meeting.
DTSTART;TZID=America/Chicago:20220210T093000
DTEND;TZID=America/Chicago:20220210T100000
LOCATION:
SUMMARY:My Heart is Like a Zoo: An Interactive Preschool Class
END:VEVENT
END:VCALENDAR
