BEGIN:VCALENDAR
VERSION:2.0
PRODID:-//midwestchildcare.org//NONSGML kigkonsult.se iCalcreator 2.30.10//
CALSCALE:GREGORIAN
METHOD:PUBLISH
UID:da061ae1-25da-4f3e-b738-4f9187f089e7
X-WR-CALDESC:My Heart is Like a Zoo: An Interactive Preschool Class\n\nYou 
 are invited to a Zoom meeting.\nWhen: Feb 10\, 2022 09:00 AM Central Time 
 (US and Canada)\n\nRegister in advance for this meeting:\nhttps://us02web.
 zoom.us/meeting/register/tZIpcu-upzstHN1x80E372nitzECld5_gqP9\n\nAfter reg
 istering\, you will receive a confirmation email containing information ab
 out joining the meeting.
X-WR-RELCALID:a71929984220967320fafdeda918247d
X-WR-TIMEZONE:America/Chicago
BEGIN:VTIMEZONE
TZID:America/Chicago
BEGIN:STANDARD
TZNAME:CST
DTSTART:20211107T020000
TZOFFSETFROM:-0500
TZOFFSETTO:-0600
RDATE:20221106T020000
END:STANDARD
BEGIN:DAYLIGHT
TZNAME:CDT
DTSTART:20210314T020000
TZOFFSETFROM:-0600
TZOFFSETTO:-0500
RDATE:20220313T020000
RDATE:20230312T020000
END:DAYLIGHT
END:VTIMEZONE
BEGIN:VEVENT
UID:b5f79605-e1e9-449e-ae91-33a4b903afb1
DTSTAMP:20260425T130605Z
DESCRIPTION:My Heart is Like a Zoo: An Interactive Preschool Class\n\nYou a
 re invited to a Zoom meeting.\nWhen: Feb 10\, 2022 09:00 AM Central Time (
 US and Canada)\n\nRegister in advance for this meeting:\nhttps://us02web.z
 oom.us/meeting/register/tZIpcu-upzstHN1x80E372nitzECld5_gqP9\n\nAfter regi
 stering\, you will receive a confirmation email containing information abo
 ut joining the meeting.
DTSTART;TZID=America/Chicago:20220210T090000
DTEND;TZID=America/Chicago:20220210T093000
LOCATION:
SUMMARY:My Heart is Like a Zoo: An Interactive Preschool Class
END:VEVENT
END:VCALENDAR
