BEGIN:VCALENDAR
VERSION:2.0
PRODID:-//midwestchildcare.org//NONSGML kigkonsult.se iCalcreator 2.30.10//
CALSCALE:GREGORIAN
METHOD:PUBLISH
UID:9df873a3-09f7-4b54-82f9-944676ca02a5
X-WR-CALDESC:Relationship between Sleep and our Health | Webinar\n\nPlease 
 register for Relationship between Sleep and our Health on Feb 8\, 2022 7:0
 0 PM CST at:\n\nhttps://attendee.gotowebinar.com/register/8978755309174439
 440\n\nAfter registering\, you will receive a confirmation email containin
 g information about joining the webinar.
X-WR-RELCALID:ca3c554ba10315b2556ceeed108f8c4b
X-WR-TIMEZONE:America/Chicago
BEGIN:VTIMEZONE
TZID:America/Chicago
BEGIN:STANDARD
TZNAME:CST
DTSTART:20211107T020000
TZOFFSETFROM:-0500
TZOFFSETTO:-0600
RDATE:20221106T020000
END:STANDARD
BEGIN:DAYLIGHT
TZNAME:CDT
DTSTART:20210314T020000
TZOFFSETFROM:-0600
TZOFFSETTO:-0500
RDATE:20220313T020000
RDATE:20230312T020000
END:DAYLIGHT
END:VTIMEZONE
BEGIN:VEVENT
UID:7902f983-5dd3-46a1-857a-52dd0489d7b0
DTSTAMP:20260425T132236Z
DESCRIPTION:Relationship between Sleep and our Health | Webinar\n\nPlease r
 egister for Relationship between Sleep and our Health on Feb 8\, 2022 7:00
  PM CST at:\n\nhttps://attendee.gotowebinar.com/register/89787553091744394
 40\n\nAfter registering\, you will receive a confirmation email containing
  information about joining the webinar.
DTSTART;TZID=America/Chicago:20220208T190000
DTEND;TZID=America/Chicago:20220208T200000
LOCATION:
SUMMARY:Relationship between Sleep and our Health | Webinar
END:VEVENT
END:VCALENDAR
