BEGIN:VCALENDAR
VERSION:2.0
PRODID:-//midwestchildcare.org//NONSGML kigkonsult.se iCalcreator 2.30.10//
CALSCALE:GREGORIAN
METHOD:PUBLISH
UID:01919363-9a8c-4c25-8f4e-f55b36bc547c
X-WR-CALDESC:Snowmen at Work: An Interactive Preschool Class Thursday Febru
 ary 3\, 2022\n\nYou are invited to a Zoom meeting.\nWhen: Feb 3\, 2022 10:
 00 AM Central Time (US and Canada)\n\nRegister in advance for this meeting
 :\nhttps://us02web.zoom.us/meeting/register/tZAsfuirpjsrGd3TwJxDioou1AIJWK
 muuzTi\n\nAfter registering\, you will receive a confirmation email contai
 ning information about joining the meeting.
X-WR-RELCALID:8a8328e3438f9103508de5f9989e843a
X-WR-TIMEZONE:America/Chicago
BEGIN:VTIMEZONE
TZID:America/Chicago
BEGIN:STANDARD
TZNAME:CST
DTSTART:20211107T020000
TZOFFSETFROM:-0500
TZOFFSETTO:-0600
RDATE:20221106T020000
END:STANDARD
BEGIN:DAYLIGHT
TZNAME:CDT
DTSTART:20210314T020000
TZOFFSETFROM:-0600
TZOFFSETTO:-0500
RDATE:20220313T020000
RDATE:20230312T020000
END:DAYLIGHT
END:VTIMEZONE
BEGIN:VEVENT
UID:315cb31f-a130-43e3-aa62-c2b069de6c3b
DTSTAMP:20260425T130825Z
DESCRIPTION:Snowmen at Work: An Interactive Preschool Class Thursday Februa
 ry 3\, 2022\n\nYou are invited to a Zoom meeting.\nWhen: Feb 3\, 2022 10:0
 0 AM Central Time (US and Canada)\n\nRegister in advance for this meeting:
 \nhttps://us02web.zoom.us/meeting/register/tZAsfuirpjsrGd3TwJxDioou1AIJWKm
 uuzTi\n\nAfter registering\, you will receive a confirmation email contain
 ing information about joining the meeting.
DTSTART;TZID=America/Chicago:20220203T100000
DTEND;TZID=America/Chicago:20220203T103000
LOCATION:
SUMMARY:Snowmen at Work: An Interactive Preschool Class
END:VEVENT
END:VCALENDAR
