BEGIN:VCALENDAR
VERSION:2.0
PRODID:-//midwestchildcare.org//NONSGML kigkonsult.se iCalcreator 2.30.10//
CALSCALE:GREGORIAN
METHOD:PUBLISH
UID:74295009-035a-4ab2-82a9-5bfde6cc6525
X-WR-CALDESC:Snowmen at Work: An Interactive Preschool Class Thursday Febru
 ary 3\, 2022\n\nYou are invited to a Zoom meeting.\nWhen: Feb 3\, 2022 09:
 30 AM Central Time (US and Canada)\n\nRegister in advance for this meeting
 :\nhttps://us02web.zoom.us/meeting/register/tZEldOqoqj4jHdT1ZHxZfsvIlZM-X8
 9Vjf4D\n\nAfter registering\, you will receive a confirmation email contai
 ning information about joining the meeting.\n
X-WR-RELCALID:d56287d9c1b50fd1517135a72affc311
X-WR-TIMEZONE:America/Chicago
BEGIN:VTIMEZONE
TZID:America/Chicago
BEGIN:STANDARD
TZNAME:CST
DTSTART:20211107T020000
TZOFFSETFROM:-0500
TZOFFSETTO:-0600
RDATE:20221106T020000
END:STANDARD
BEGIN:DAYLIGHT
TZNAME:CDT
DTSTART:20210314T020000
TZOFFSETFROM:-0600
TZOFFSETTO:-0500
RDATE:20220313T020000
RDATE:20230312T020000
END:DAYLIGHT
END:VTIMEZONE
BEGIN:VEVENT
UID:907d32ce-82a2-40ab-849b-194074102ae0
DTSTAMP:20260425T132244Z
DESCRIPTION:Snowmen at Work: An Interactive Preschool Class Thursday Februa
 ry 3\, 2022\n\nYou are invited to a Zoom meeting.\nWhen: Feb 3\, 2022 09:3
 0 AM Central Time (US and Canada)\n\nRegister in advance for this meeting:
 \nhttps://us02web.zoom.us/meeting/register/tZEldOqoqj4jHdT1ZHxZfsvIlZM-X89
 Vjf4D\n\nAfter registering\, you will receive a confirmation email contain
 ing information about joining the meeting.\n
DTSTART;TZID=America/Chicago:20220203T093000
DTEND;TZID=America/Chicago:20220203T100000
LOCATION:
SUMMARY:Snowmen at Work: An Interactive Preschool Class
END:VEVENT
END:VCALENDAR
