BEGIN:VCALENDAR
VERSION:2.0
PRODID:-//midwestchildcare.org//NONSGML kigkonsult.se iCalcreator 2.30.10//
CALSCALE:GREGORIAN
METHOD:PUBLISH
UID:f2c7f49b-60c1-4f78-ade8-902c538e81b2
X-WR-CALDESC:Snowmen at Work: An Interactive Preschool Class Thursday Febru
 ary 3\, 2022\n\nYou are invited to a Zoom meeting.\nWhen: Feb 3\, 2022 09:
 00 AM Central Time (US and Canada)\n\nRegister in advance for this meeting
 :\nhttps://us02web.zoom.us/meeting/register/tZwkd-GqqjgqHtTxPH6mrHXkvYxv7L
 cyZ5pf\n\nAfter registering\, you will receive a confirmation email contai
 ning information about joining the meeting.
X-WR-RELCALID:b4acdff1b4f82183db0e802d1892e689
X-WR-TIMEZONE:America/Chicago
BEGIN:VTIMEZONE
TZID:America/Chicago
BEGIN:STANDARD
TZNAME:CST
DTSTART:20211107T020000
TZOFFSETFROM:-0500
TZOFFSETTO:-0600
RDATE:20221106T020000
END:STANDARD
BEGIN:DAYLIGHT
TZNAME:CDT
DTSTART:20210314T020000
TZOFFSETFROM:-0600
TZOFFSETTO:-0500
RDATE:20220313T020000
RDATE:20230312T020000
END:DAYLIGHT
END:VTIMEZONE
BEGIN:VEVENT
UID:00217cb3-6fcd-4450-aa93-4284c712c097
DTSTAMP:20260425T132114Z
DESCRIPTION:Snowmen at Work: An Interactive Preschool Class Thursday Februa
 ry 3\, 2022\n\nYou are invited to a Zoom meeting.\nWhen: Feb 3\, 2022 09:0
 0 AM Central Time (US and Canada)\n\nRegister in advance for this meeting:
 \nhttps://us02web.zoom.us/meeting/register/tZwkd-GqqjgqHtTxPH6mrHXkvYxv7Lc
 yZ5pf\n\nAfter registering\, you will receive a confirmation email contain
 ing information about joining the meeting.
DTSTART;TZID=America/Chicago:20220203T090000
DTEND;TZID=America/Chicago:20220203T093000
LOCATION:
SUMMARY:Snowmen at Work: An Interactive Preschool Class
END:VEVENT
END:VCALENDAR
