BEGIN:VCALENDAR
VERSION:2.0
PRODID:-//midwestchildcare.org//NONSGML kigkonsult.se iCalcreator 2.30.10//
CALSCALE:GREGORIAN
METHOD:PUBLISH
UID:400ebc4d-a94a-47b5-9d44-157c33b86998
X-WR-CALDESC:EMS Safety Childcare Provider\n\nCPR/AED & First Aid Classes\n
 \nClass Start Date:01/27/2022 \nClass Time: 6:00 PM - 10:00 PM\nLocation:	
 \n4505 S 96th St\nOmaha\, NE  68127
X-WR-RELCALID:52e95d2a8e954ac884fd49e57de5013d
X-WR-TIMEZONE:America/Chicago
BEGIN:VTIMEZONE
TZID:America/Chicago
BEGIN:STANDARD
TZNAME:CST
DTSTART:20211107T020000
TZOFFSETFROM:-0500
TZOFFSETTO:-0600
RDATE:20221106T020000
END:STANDARD
BEGIN:DAYLIGHT
TZNAME:CDT
DTSTART:20210314T020000
TZOFFSETFROM:-0600
TZOFFSETTO:-0500
RDATE:20220313T020000
RDATE:20230312T020000
END:DAYLIGHT
END:VTIMEZONE
BEGIN:VEVENT
UID:1c1dca95-1bbe-4c87-a587-4f431ae7aa6d
DTSTAMP:20260425T151035Z
DESCRIPTION:EMS Safety Childcare Provider\n\nCPR/AED & First Aid Classes\n
 \nClass Start Date:01/27/2022 \nClass Time: 6:00 PM - 10:00 PM\nLocation:	
 \n4505 S 96th St\nOmaha\, NE  68127
DTSTART;TZID=America/Chicago:20220127T180000
DTEND;TZID=America/Chicago:20220127T220000
LOCATION:
SUMMARY:CPR/AED & First Aid Classes via Zoom
END:VEVENT
END:VCALENDAR
