BEGIN:VCALENDAR
VERSION:2.0
PRODID:-//midwestchildcare.org//NONSGML kigkonsult.se iCalcreator 2.30.10//
CALSCALE:GREGORIAN
METHOD:PUBLISH
UID:e4571fca-0b43-4f5e-b318-655513a4b58e
X-WR-CALDESC:Bear Snores On: AN Interactive Preschool Class\n\nYou are invi
 ted to a Zoom meeting.\nWhen: Jan 27\, 2022 10:00 AM Central Time (US and 
 Canada)\n\nRegister in advance for this meeting:\nhttps://us02web.zoom.us/
 meeting/register/tZUpfumrqTkvH9TOtofn905HdaJ5GbykV1Yw\n\nAfter registering
 \, you will receive a confirmation email containing information about join
 ing the meeting.\n
X-WR-RELCALID:2b3d99f17a8fbad056dadd3a4084b39a
X-WR-TIMEZONE:America/Chicago
BEGIN:VTIMEZONE
TZID:America/Chicago
BEGIN:STANDARD
TZNAME:CST
DTSTART:20211107T020000
TZOFFSETFROM:-0500
TZOFFSETTO:-0600
RDATE:20221106T020000
END:STANDARD
BEGIN:DAYLIGHT
TZNAME:CDT
DTSTART:20210314T020000
TZOFFSETFROM:-0600
TZOFFSETTO:-0500
RDATE:20220313T020000
RDATE:20230312T020000
END:DAYLIGHT
END:VTIMEZONE
BEGIN:VEVENT
UID:7fd0d464-6ab2-4927-b522-7079f0846aef
DTSTAMP:20260425T151618Z
DESCRIPTION:Bear Snores On: AN Interactive Preschool Class\n\nYou are invit
 ed to a Zoom meeting.\nWhen: Jan 27\, 2022 10:00 AM Central Time (US and C
 anada)\n\nRegister in advance for this meeting:\nhttps://us02web.zoom.us/m
 eeting/register/tZUpfumrqTkvH9TOtofn905HdaJ5GbykV1Yw\n\nAfter registering\
 , you will receive a confirmation email containing information about joini
 ng the meeting.\n
DTSTART;TZID=America/Chicago:20220127T100000
DTEND;TZID=America/Chicago:20220127T103000
LOCATION:
SUMMARY:Bear Snores On | An Interactive Preschool Class
END:VEVENT
END:VCALENDAR
