BEGIN:VCALENDAR
VERSION:2.0
PRODID:-//midwestchildcare.org//NONSGML kigkonsult.se iCalcreator 2.30.10//
CALSCALE:GREGORIAN
METHOD:PUBLISH
UID:c1184221-881c-42f9-979f-2923c4bb62cf
X-WR-CALDESC:Bear Snores On: AN Interactive Preschool Class\n\nYou are invi
 ted to a Zoom meeting.\nWhen: Jan 27\, 2022 09:30 AM Central Time (US and 
 Canada)\n\nRegister in advance for this meeting:\nhttps://us02web.zoom.us/
 meeting/register/tZMrfuCgqT8rE9yGlHdK66XokmuLRAXxqT1t\n\nAfter registering
 \, you will receive a confirmation email containing information about join
 ing the meeting.
X-WR-RELCALID:cea49b976706527c043b964a11f23dd4
X-WR-TIMEZONE:America/Chicago
BEGIN:VTIMEZONE
TZID:America/Chicago
BEGIN:STANDARD
TZNAME:CST
DTSTART:20211107T020000
TZOFFSETFROM:-0500
TZOFFSETTO:-0600
RDATE:20221106T020000
END:STANDARD
BEGIN:DAYLIGHT
TZNAME:CDT
DTSTART:20210314T020000
TZOFFSETFROM:-0600
TZOFFSETTO:-0500
RDATE:20220313T020000
RDATE:20230312T020000
END:DAYLIGHT
END:VTIMEZONE
BEGIN:VEVENT
UID:a58f2041-24d7-4b1a-9ba5-4e82905ec87a
DTSTAMP:20260425T151346Z
DESCRIPTION:Bear Snores On: AN Interactive Preschool Class\n\nYou are invit
 ed to a Zoom meeting.\nWhen: Jan 27\, 2022 09:30 AM Central Time (US and C
 anada)\n\nRegister in advance for this meeting:\nhttps://us02web.zoom.us/m
 eeting/register/tZMrfuCgqT8rE9yGlHdK66XokmuLRAXxqT1t\n\nAfter registering\
 , you will receive a confirmation email containing information about joini
 ng the meeting.
DTSTART;TZID=America/Chicago:20220127T093000
DTEND;TZID=America/Chicago:20220127T100000
LOCATION:
SUMMARY:Bear Snores On | An Interactive Preschool Class
END:VEVENT
END:VCALENDAR
