BEGIN:VCALENDAR
VERSION:2.0
PRODID:-//midwestchildcare.org//NONSGML kigkonsult.se iCalcreator 2.30.10//
CALSCALE:GREGORIAN
METHOD:PUBLISH
UID:c0926c59-27b2-435b-8105-988878445b20
X-WR-CALDESC:Bear Snores On: AN Interactive Preschool Class\n\nYou are invi
 ted to a Zoom meeting.\nWhen: Jan 27\, 2022 09:00 AM Central Time (US and 
 Canada)\n\nRegister in advance for this meeting:\nhttps://us02web.zoom.us/
 meeting/register/tZYvdOuvqz8uGNMsqxk06Qr2cKQ-siRwJOa6\n\nAfter registering
 \, you will receive a confirmation email containing information about join
 ing the meeting.
X-WR-RELCALID:7e0dfc66fb6ad58b89d122d67c34daaf
X-WR-TIMEZONE:America/Chicago
BEGIN:VTIMEZONE
TZID:America/Chicago
BEGIN:STANDARD
TZNAME:CST
DTSTART:20211107T020000
TZOFFSETFROM:-0500
TZOFFSETTO:-0600
RDATE:20221106T020000
END:STANDARD
BEGIN:DAYLIGHT
TZNAME:CDT
DTSTART:20210314T020000
TZOFFSETFROM:-0600
TZOFFSETTO:-0500
RDATE:20220313T020000
RDATE:20230312T020000
END:DAYLIGHT
END:VTIMEZONE
BEGIN:VEVENT
UID:8bae1e92-247b-414f-9b19-ebc10d7cf084
DTSTAMP:20260425T144012Z
DESCRIPTION:Bear Snores On: AN Interactive Preschool Class\n\nYou are invit
 ed to a Zoom meeting.\nWhen: Jan 27\, 2022 09:00 AM Central Time (US and C
 anada)\n\nRegister in advance for this meeting:\nhttps://us02web.zoom.us/m
 eeting/register/tZYvdOuvqz8uGNMsqxk06Qr2cKQ-siRwJOa6\n\nAfter registering\
 , you will receive a confirmation email containing information about joini
 ng the meeting.
DTSTART;TZID=America/Chicago:20220127T090000
DTEND;TZID=America/Chicago:20220127T093000
LOCATION:
SUMMARY:Bear Snores On | An Interactive Preschool Class
END:VEVENT
END:VCALENDAR
