BEGIN:VCALENDAR
VERSION:2.0
PRODID:-//midwestchildcare.org//NONSGML kigkonsult.se iCalcreator 2.30.10//
CALSCALE:GREGORIAN
METHOD:PUBLISH
UID:eaf26f75-dc0b-47f7-81a5-14080a7822f7
X-WR-CALDESC:Understanding Food Allergies\, Intolerances and Sensitivities
 \n\nPlease register for Understanding Food Allergies\, Intolerances and Se
 nsitivities on Jan 25\, 2022 1:00 PM CST at:\nhttps://attendee.gotowebinar
 .com/register/5996675265349615888\n\nAfter registering\, you will receive 
 a confirmation email containing information about joining the webinar.
X-WR-RELCALID:eec87d9a16e481cd614d119f2783ff83
X-WR-TIMEZONE:America/Chicago
BEGIN:VTIMEZONE
TZID:America/Chicago
BEGIN:STANDARD
TZNAME:CST
DTSTART:20211107T020000
TZOFFSETFROM:-0500
TZOFFSETTO:-0600
RDATE:20221106T020000
END:STANDARD
BEGIN:DAYLIGHT
TZNAME:CDT
DTSTART:20210314T020000
TZOFFSETFROM:-0600
TZOFFSETTO:-0500
RDATE:20220313T020000
RDATE:20230312T020000
END:DAYLIGHT
END:VTIMEZONE
BEGIN:VEVENT
UID:29875171-a72c-4fef-8394-545a27644205
DTSTAMP:20260425T144918Z
DESCRIPTION:Understanding Food Allergies\, Intolerances and Sensitivities\n
 \nPlease register for Understanding Food Allergies\, Intolerances and Sens
 itivities on Jan 25\, 2022 1:00 PM CST at:\nhttps://attendee.gotowebinar.c
 om/register/5996675265349615888\n\nAfter registering\, you will receive a 
 confirmation email containing information about joining the webinar.
DTSTART;TZID=America/Chicago:20220125T130000
DTEND;TZID=America/Chicago:20220125T140000
LOCATION:
SUMMARY:Understanding Food Allergies\, Intolerances and Sensitivities | Web
 inar
END:VEVENT
END:VCALENDAR
