BEGIN:VCALENDAR
VERSION:2.0
PRODID:-//midwestchildcare.org//NONSGML kigkonsult.se iCalcreator 2.30.10//
CALSCALE:GREGORIAN
METHOD:PUBLISH
UID:a9e420d5-c7ae-4d1e-96ce-f4872044208c
X-WR-CALDESC:Ten on a Sled: An Interactive Preschool Class\n\nYou are invit
 ed to a Zoom meeting.\nWhen: Jan 20\, 2022 09:00 AM Central Time (US and C
 anada)\n\nRegister in advance for this meeting:\nhttps://us02web.zoom.us/m
 eeting/register/tZIld-ypqD0qH910_Dnjk02TU7JWfPVCXZOX
X-WR-RELCALID:b12de8b6cd90c990274f71749ff116bc
X-WR-TIMEZONE:America/Chicago
BEGIN:VTIMEZONE
TZID:America/Chicago
BEGIN:STANDARD
TZNAME:CST
DTSTART:20211107T020000
TZOFFSETFROM:-0500
TZOFFSETTO:-0600
RDATE:20221106T020000
END:STANDARD
BEGIN:DAYLIGHT
TZNAME:CDT
DTSTART:20210314T020000
TZOFFSETFROM:-0600
TZOFFSETTO:-0500
RDATE:20220313T020000
RDATE:20230312T020000
END:DAYLIGHT
END:VTIMEZONE
BEGIN:VEVENT
UID:cbd60dfe-18f5-4a00-98de-bddfa89ba7d8
DTSTAMP:20260425T144314Z
DESCRIPTION:Ten on a Sled: An Interactive Preschool Class\n\nYou are invite
 d to a Zoom meeting.\nWhen: Jan 20\, 2022 09:00 AM Central Time (US and Ca
 nada)\n\nRegister in advance for this meeting:\nhttps://us02web.zoom.us/me
 eting/register/tZIld-ypqD0qH910_Dnjk02TU7JWfPVCXZOX
DTSTART;TZID=America/Chicago:20220120T090000
DTEND;TZID=America/Chicago:20220120T093000
LOCATION:
SUMMARY:Ten on a Sled | An Interactive Preschool Class
END:VEVENT
END:VCALENDAR
