BEGIN:VCALENDAR
VERSION:2.0
PRODID:-//midwestchildcare.org//NONSGML kigkonsult.se iCalcreator 2.30.10//
CALSCALE:GREGORIAN
METHOD:PUBLISH
UID:9d23fc8c-695e-40b7-a74c-d668466092e2
X-WR-CALDESC:Ten on a Sled: An Interactive Preschool Class\n\nYou are invit
 ed to a Zoom meeting.\nWhen: Jan 20\, 2022 10:00 AM Central Time (US and C
 anada)\n\nRegister in advance for this meeting:\nhttps://us02web.zoom.us/m
 eeting/register/tZEpc-GvrjgjGNB3amAzOaccUtyQYAOjrULI
X-WR-RELCALID:d4110d918dc751a9b58b00f847098946
X-WR-TIMEZONE:America/Chicago
BEGIN:VTIMEZONE
TZID:America/Chicago
BEGIN:STANDARD
TZNAME:CST
DTSTART:20211107T020000
TZOFFSETFROM:-0500
TZOFFSETTO:-0600
RDATE:20221106T020000
END:STANDARD
BEGIN:DAYLIGHT
TZNAME:CDT
DTSTART:20210314T020000
TZOFFSETFROM:-0600
TZOFFSETTO:-0500
RDATE:20220313T020000
RDATE:20230312T020000
END:DAYLIGHT
END:VTIMEZONE
BEGIN:VEVENT
UID:c6ccfcdd-48d9-4fae-a463-6ff079555d2c
DTSTAMP:20260425T151200Z
DESCRIPTION:Ten on a Sled: An Interactive Preschool Class\n\nYou are invite
 d to a Zoom meeting.\nWhen: Jan 20\, 2022 10:00 AM Central Time (US and Ca
 nada)\n\nRegister in advance for this meeting:\nhttps://us02web.zoom.us/me
 eting/register/tZEpc-GvrjgjGNB3amAzOaccUtyQYAOjrULI
DTSTART;TZID=America/Chicago:20220120T100000
DTEND;TZID=America/Chicago:20220120T103000
LOCATION:
SUMMARY:Ten on a Sled | An Interactive Preschool Class
END:VEVENT
END:VCALENDAR
