BEGIN:VCALENDAR
VERSION:2.0
PRODID:-//midwestchildcare.org//NONSGML kigkonsult.se iCalcreator 2.30.10//
CALSCALE:GREGORIAN
METHOD:PUBLISH
UID:1662c953-3251-4bc3-97f7-3b57d8bf25f6
X-WR-CALDESC:Ten on a Sled: An Interactive Preschool Class\n\nYou are invit
 ed to a Zoom meeting.\nWhen: Jan 20\, 2022 09:30 AM Central Time (US and C
 anada)\n\nRegister in advance for this meeting:\nhttps://us02web.zoom.us/m
 eeting/register/tZUvfu2uqDovGt3ZFFJIdvinXIBxdFDaTX2s
X-WR-RELCALID:cfb5a0b43ee3bc1f68dd31cc28293c8a
X-WR-TIMEZONE:America/Chicago
BEGIN:VTIMEZONE
TZID:America/Chicago
BEGIN:STANDARD
TZNAME:CST
DTSTART:20211107T020000
TZOFFSETFROM:-0500
TZOFFSETTO:-0600
RDATE:20221106T020000
END:STANDARD
BEGIN:DAYLIGHT
TZNAME:CDT
DTSTART:20210314T020000
TZOFFSETFROM:-0600
TZOFFSETTO:-0500
RDATE:20220313T020000
RDATE:20230312T020000
END:DAYLIGHT
END:VTIMEZONE
BEGIN:VEVENT
UID:28601f1f-81bb-45c8-9c2e-f7e548e1786d
DTSTAMP:20260425T145330Z
DESCRIPTION:Ten on a Sled: An Interactive Preschool Class\n\nYou are invite
 d to a Zoom meeting.\nWhen: Jan 20\, 2022 09:30 AM Central Time (US and Ca
 nada)\n\nRegister in advance for this meeting:\nhttps://us02web.zoom.us/me
 eting/register/tZUvfu2uqDovGt3ZFFJIdvinXIBxdFDaTX2s
DTSTART;TZID=America/Chicago:20220120T093000
DTEND;TZID=America/Chicago:20220120T100000
LOCATION:
SUMMARY:Ten on a Sled | An Interactive Preschool Class
END:VEVENT
END:VCALENDAR
