BEGIN:VCALENDAR
VERSION:2.0
PRODID:-//midwestchildcare.org//NONSGML kigkonsult.se iCalcreator 2.30.10//
CALSCALE:GREGORIAN
METHOD:PUBLISH
UID:f2ea4128-919b-4397-b566-d4a1c7d65388
X-WR-CALDESC:EMS Safety Childcare Provider\n\nClass Start Date:01/20/2022 
 \nClass Time: 6:00 PM - 10:00 PM\nLocation:	\n4505 S 96th St\nOmaha\, NE\n6
 8117
X-WR-RELCALID:d34b4f2a0231789c4d047540a16e8bab
X-WR-TIMEZONE:America/Chicago
BEGIN:VTIMEZONE
TZID:America/Chicago
BEGIN:STANDARD
TZNAME:CST
DTSTART:20211107T020000
TZOFFSETFROM:-0500
TZOFFSETTO:-0600
RDATE:20221106T020000
END:STANDARD
BEGIN:DAYLIGHT
TZNAME:CDT
DTSTART:20210314T020000
TZOFFSETFROM:-0600
TZOFFSETTO:-0500
RDATE:20220313T020000
RDATE:20230312T020000
END:DAYLIGHT
END:VTIMEZONE
BEGIN:VEVENT
UID:e8e118d7-f04c-48c5-bb20-04ed13b99a01
DTSTAMP:20260425T144244Z
DESCRIPTION:EMS Safety Childcare Provider\n\nClass Start Date:01/20/2022 \n
 Class Time: 6:00 PM - 10:00 PM\nLocation:	\n4505 S 96th St\nOmaha\, NE\n681
 17
DTSTART;TZID=America/Chicago:20220120T180000
DTEND;TZID=America/Chicago:20220120T220000
LOCATION:
SUMMARY:CPR/AED & First Aid Classes
END:VEVENT
END:VCALENDAR
