BEGIN:VCALENDAR
VERSION:2.0
PRODID:-//midwestchildcare.org//NONSGML kigkonsult.se iCalcreator 2.30.10//
CALSCALE:GREGORIAN
METHOD:PUBLISH
UID:74d358f8-d615-4bef-b320-d0b1c0e4ea81
X-WR-CALDESC:CHICKA CHICKA BOOM BOOM: AN INTERACTIVE PRESCHOOL CLASS\n\nYou
  are invited to a Zoom meeting.\nWhen: Jan 13\, 2022 10:00 AM Central Time
  (US and Canada)\n\nRegister in advance for this meeting:\nhttps://us02web
 .zoom.us/meeting/register/tZAsd-GsqDgjGdKla7VgmbpDOdBmvudM4fDF\n\nAfter re
 gistering\, you will receive a confirmation email containing information a
 bout joining the meeting.
X-WR-RELCALID:0d20463e7083dea9a5f0ab63395ea8e5
X-WR-TIMEZONE:America/Chicago
BEGIN:VTIMEZONE
TZID:America/Chicago
BEGIN:STANDARD
TZNAME:CST
DTSTART:20211107T020000
TZOFFSETFROM:-0500
TZOFFSETTO:-0600
RDATE:20221106T020000
END:STANDARD
BEGIN:DAYLIGHT
TZNAME:CDT
DTSTART:20210314T020000
TZOFFSETFROM:-0600
TZOFFSETTO:-0500
RDATE:20220313T020000
RDATE:20230312T020000
END:DAYLIGHT
END:VTIMEZONE
BEGIN:VEVENT
UID:e8028eab-fab3-4625-92d4-177924f731c8
DTSTAMP:20260425T145004Z
DESCRIPTION:CHICKA CHICKA BOOM BOOM: AN INTERACTIVE PRESCHOOL CLASS\n\nYou 
 are invited to a Zoom meeting.\nWhen: Jan 13\, 2022 10:00 AM Central Time 
 (US and Canada)\n\nRegister in advance for this meeting:\nhttps://us02web.
 zoom.us/meeting/register/tZAsd-GsqDgjGdKla7VgmbpDOdBmvudM4fDF\n\nAfter reg
 istering\, you will receive a confirmation email containing information ab
 out joining the meeting.
DTSTART;TZID=America/Chicago:20220113T100000
DTEND;TZID=America/Chicago:20220113T103000
LOCATION:
SUMMARY:Chicka Chicka Boom Boom | An Interactive Preschool Class
END:VEVENT
END:VCALENDAR
