BEGIN:VCALENDAR
VERSION:2.0
PRODID:-//midwestchildcare.org//NONSGML kigkonsult.se iCalcreator 2.30.10//
CALSCALE:GREGORIAN
METHOD:PUBLISH
UID:50619c29-887e-4ec6-a373-7f0b5f5db47e
X-WR-CALDESC:CHICKA CHICKA BOOM BOOM: AN INTERACTIVE PRESCHOOL CLASS\n\nYou
  are invited to a Zoom meeting.\nWhen: Jan 13\, 2022 09:30 AM Central Time
  (US and Canada)\nRegister in advance for this meeting:\nhttps://us02web.z
 oom.us/meeting/register/tZIvf--vrDgtGtFQffC0b1oGYVQrTBoDzIDN\n\nAfter regi
 stering\, you will receive a confirmation email containing information abo
 ut joining the meeting.\n
X-WR-RELCALID:bb5c5b1adb943b64f35fcf9391b001ad
X-WR-TIMEZONE:America/Chicago
BEGIN:VTIMEZONE
TZID:America/Chicago
BEGIN:STANDARD
TZNAME:CST
DTSTART:20211107T020000
TZOFFSETFROM:-0500
TZOFFSETTO:-0600
RDATE:20221106T020000
END:STANDARD
BEGIN:DAYLIGHT
TZNAME:CDT
DTSTART:20210314T020000
TZOFFSETFROM:-0600
TZOFFSETTO:-0500
RDATE:20220313T020000
RDATE:20230312T020000
END:DAYLIGHT
END:VTIMEZONE
BEGIN:VEVENT
UID:343e983b-6a0c-4eb7-9d8a-3852a7d09e4b
DTSTAMP:20260425T151327Z
DESCRIPTION:CHICKA CHICKA BOOM BOOM: AN INTERACTIVE PRESCHOOL CLASS\n\nYou 
 are invited to a Zoom meeting.\nWhen: Jan 13\, 2022 09:30 AM Central Time 
 (US and Canada)\nRegister in advance for this meeting:\nhttps://us02web.zo
 om.us/meeting/register/tZIvf--vrDgtGtFQffC0b1oGYVQrTBoDzIDN\n\nAfter regis
 tering\, you will receive a confirmation email containing information abou
 t joining the meeting.\n
DTSTART;TZID=America/Chicago:20220113T093000
DTEND;TZID=America/Chicago:20220113T100000
LOCATION:
SUMMARY:Chicka Chicka Boom Boom | An Interactive Preschool Class
END:VEVENT
END:VCALENDAR
