BEGIN:VCALENDAR
VERSION:2.0
PRODID:-//midwestchildcare.org//NONSGML kigkonsult.se iCalcreator 2.30.10//
CALSCALE:GREGORIAN
METHOD:PUBLISH
UID:33df36b3-86d7-4b16-a7b3-97e2baa995ed
X-WR-CALDESC:CHICKA CHICKA BOOM BOOM: AN INTERACTIVE PRESCHOOL CLASS\n\nYou
  are invited to a Zoom meeting.\nWhen: Jan 13\, 2022 09:00 AM Central Time
  (US and Canada)\n\nRegister in advance for this meeting:\nhttps://us02web
 .zoom.us/meeting/register/tZYpceCoqDstG91v3RNP4Kf0sHFlieFLtiUh\n\nAfter re
 gistering\, you will receive a confirmation email containing information a
 bout joining the meeting.
X-WR-RELCALID:8168c6e9e50ce9df6941023aa2341d51
X-WR-TIMEZONE:America/Chicago
BEGIN:VTIMEZONE
TZID:America/Chicago
BEGIN:STANDARD
TZNAME:CST
DTSTART:20211107T020000
TZOFFSETFROM:-0500
TZOFFSETTO:-0600
RDATE:20221106T020000
END:STANDARD
BEGIN:DAYLIGHT
TZNAME:CDT
DTSTART:20210314T020000
TZOFFSETFROM:-0600
TZOFFSETTO:-0500
RDATE:20220313T020000
RDATE:20230312T020000
END:DAYLIGHT
END:VTIMEZONE
BEGIN:VEVENT
UID:cea0b2ae-c484-45e0-b0cb-1ed25f53a6c6
DTSTAMP:20260425T144350Z
DESCRIPTION:CHICKA CHICKA BOOM BOOM: AN INTERACTIVE PRESCHOOL CLASS\n\nYou 
 are invited to a Zoom meeting.\nWhen: Jan 13\, 2022 09:00 AM Central Time 
 (US and Canada)\n\nRegister in advance for this meeting:\nhttps://us02web.
 zoom.us/meeting/register/tZYpceCoqDstG91v3RNP4Kf0sHFlieFLtiUh\n\nAfter reg
 istering\, you will receive a confirmation email containing information ab
 out joining the meeting.
DTSTART;TZID=America/Chicago:20220113T090000
DTEND;TZID=America/Chicago:20220113T093000
LOCATION:
SUMMARY:Chicka Chicka Boom Boom | An Interactive Preschool Class
END:VEVENT
END:VCALENDAR
