BEGIN:VCALENDAR
VERSION:2.0
PRODID:-//midwestchildcare.org//NONSGML kigkonsult.se iCalcreator 2.30.10//
CALSCALE:GREGORIAN
METHOD:PUBLISH
UID:521d36ac-58c8-4dfc-9d06-a8b42bcc7f4e
X-WR-CALDESC:Please register for Keeping Physically Activity Inside in Smal
 l Spaces on Jan 6\, 2022 7:00 PM CST at:\n\nhttps://attendee.gotowebinar.c
 om/register/4112819320754482957\n\nAfter registering\, you will receive a 
 confirmation email containing information about joining the webinar.
X-WR-RELCALID:ca452d3e2661a5797567be11b1cd39ed
X-WR-TIMEZONE:America/Chicago
BEGIN:VTIMEZONE
TZID:America/Chicago
BEGIN:STANDARD
TZNAME:CST
DTSTART:20211107T020000
TZOFFSETFROM:-0500
TZOFFSETTO:-0600
RDATE:20221106T020000
END:STANDARD
BEGIN:DAYLIGHT
TZNAME:CDT
DTSTART:20210314T020000
TZOFFSETFROM:-0600
TZOFFSETTO:-0500
RDATE:20220313T020000
RDATE:20230312T020000
END:DAYLIGHT
END:VTIMEZONE
BEGIN:VEVENT
UID:3f573079-a40b-445e-826d-f8091180a889
DTSTAMP:20260425T145238Z
DESCRIPTION:Please register for Keeping Physically Activity Inside in Small
  Spaces on Jan 6\, 2022 7:00 PM CST at:\n\nhttps://attendee.gotowebinar.co
 m/register/4112819320754482957\n\nAfter registering\, you will receive a c
 onfirmation email containing information about joining the webinar.
DTSTART;TZID=America/Chicago:20220106T190000
DTEND;TZID=America/Chicago:20220106T200000
LOCATION:
SUMMARY:Keeping Physically Activity Inside in Small Spaces | Webinar
END:VEVENT
END:VCALENDAR
