BEGIN:VCALENDAR
VERSION:2.0
PRODID:-//midwestchildcare.org//NONSGML kigkonsult.se iCalcreator 2.30.10//
CALSCALE:GREGORIAN
METHOD:PUBLISH
UID:69e65332-0831-42ec-9fc5-4b5348e26de5
X-WR-CALDESC:CPR\, AED AND FIRST AID FOR CHILDCARE PROVIDERS\n\nThe CPR\, A
 ED and First Aid for Childcare Providers course offered by EMS Safety Serv
 ices\, Inc. is OSHA compliant and is approved by federal\, state\, municip
 al and private/nonprofit organizations.  \n\nCPR\, AED And First Aid For C
 hildcare Providers  Features:\n\nThe Perfect Book For Caregivers Of Small 
 Children.\n\nOSHA-Compliant\n\n2-Year Certification (Including Pediatric F
 irst Aid) \n\nIdeal For:\n• Childcare Providers\n• Daycare Centers\n• Baby
 sitters\n\nCost: $65 -Cash or Check\; please bring payment to class. Check
 s can be made payable to 'Top Notch Training'\n\nMidwest Child Care Associ
 ation is in Room #200\n\n\nTime: 6:00pm - 10:00pm CST\nLocation: \n7701 Pa
 cific St. (Large brick building on the corner of 77th & Pacific)\nOmaha\, 
 NE \n68114\n\nPlease register via the Registration link.
X-WR-RELCALID:82039d80202ca3c93a912ac1b8b23ede
X-WR-TIMEZONE:America/Chicago
BEGIN:VTIMEZONE
TZID:America/Chicago
BEGIN:STANDARD
TZNAME:CST
DTSTART:20211107T020000
TZOFFSETFROM:-0500
TZOFFSETTO:-0600
RDATE:20221106T020000
END:STANDARD
BEGIN:DAYLIGHT
TZNAME:CDT
DTSTART:20210314T020000
TZOFFSETFROM:-0600
TZOFFSETTO:-0500
RDATE:20220313T020000
RDATE:20230312T020000
END:DAYLIGHT
END:VTIMEZONE
BEGIN:VEVENT
UID:7fea410a-f67a-4126-8bd3-3de3682b876b
DTSTAMP:20260425T162750Z
DESCRIPTION:CPR\, AED AND FIRST AID FOR CHILDCARE PROVIDERS\n\nThe CPR\, AE
 D and First Aid for Childcare Providers course offered by EMS Safety Servi
 ces\, Inc. is OSHA compliant and is approved by federal\, state\, municipa
 l and private/nonprofit organizations.  \n\nCPR\, AED And First Aid For Ch
 ildcare Providers  Features:\n\nThe Perfect Book For Caregivers Of Small C
 hildren.\n\nOSHA-Compliant\n\n2-Year Certification (Including Pediatric Fi
 rst Aid) \n\nIdeal For:\n• Childcare Providers\n• Daycare Centers\n• Babys
 itters\n\nCost: $65 -Cash or Check\; please bring payment to class. Checks
  can be made payable to 'Top Notch Training'\n\nMidwest Child Care Associa
 tion is in Room #200\n\n\nTime: 6:00pm - 10:00pm CST\nLocation: \n7701 Pac
 ific St. (Large brick building on the corner of 77th & Pacific)\nOmaha\, N
 E \n68114\n\nPlease register via the Registration link.
DTSTART;TZID=America/Chicago:20211216T180000
DTEND;TZID=America/Chicago:20211216T220000
LOCATION:
SUMMARY:CPR\, First Aid\, and AED for Child Care Providers
END:VEVENT
END:VCALENDAR
