BEGIN:VCALENDAR
VERSION:2.0
PRODID:-//midwestchildcare.org//NONSGML kigkonsult.se iCalcreator 2.30.10//
CALSCALE:GREGORIAN
METHOD:PUBLISH
UID:f2e57fc5-021b-48d3-bb52-fea008804545
X-WR-CALDESC:Please register for Winter Food and Activity Ideas on Dec 13\,
  2021 7:00 PM CST at:\n\nhttps://attendee.gotowebinar.com/register/7497165
 589072206607\n\nAfter registering\, you will receive a confirmation email 
 containing information about joining the webinar.
X-WR-RELCALID:dc379a9b1c539230824325ecd6bddfc7
X-WR-TIMEZONE:America/Chicago
BEGIN:VTIMEZONE
TZID:America/Chicago
BEGIN:STANDARD
TZNAME:CST
DTSTART:20211107T020000
TZOFFSETFROM:-0500
TZOFFSETTO:-0600
RDATE:20221106T020000
END:STANDARD
BEGIN:DAYLIGHT
TZNAME:CDT
DTSTART:20210314T020000
TZOFFSETFROM:-0600
TZOFFSETTO:-0500
RDATE:20220313T020000
RDATE:20230312T020000
END:DAYLIGHT
END:VTIMEZONE
BEGIN:VEVENT
UID:7960d1de-4cfc-4bff-9d8e-4023da7d5a5b
DTSTAMP:20260425T162849Z
DESCRIPTION:Please register for Winter Food and Activity Ideas on Dec 13\, 
 2021 7:00 PM CST at:\n\nhttps://attendee.gotowebinar.com/register/74971655
 89072206607\n\nAfter registering\, you will receive a confirmation email c
 ontaining information about joining the webinar.
DTSTART;TZID=America/Chicago:20211213T183000
DTEND;TZID=America/Chicago:20211213T193000
LOCATION:
SUMMARY:Winter Food and Activity Ideas | Webinar
END:VEVENT
END:VCALENDAR
