BEGIN:VCALENDAR
VERSION:2.0
PRODID:-//midwestchildcare.org//NONSGML kigkonsult.se iCalcreator 2.30.10//
CALSCALE:GREGORIAN
METHOD:PUBLISH
UID:2e215b3c-6772-4694-8550-f985a1e0c0e0
X-WR-CALDESC:Mighty Tugboat: An Interactive Preschool Class\n\nYou are invi
 ted to a Zoom meeting.\nWhen: Dec 9\, 2021 10:00 AM Central Time (US and C
 anada)\n\nRegister in advance for this meeting:\nhttps://us02web.zoom.us/m
 eeting/register/tZwtdeCrpzgsHtPNU2fwknc6hAlE17a_Sifr\n\nAfter registering\
 , you will receive a confirmation email containing information about joini
 ng the meeting.
X-WR-RELCALID:2e819e3a48aa9e8a0662b02c7e574291
X-WR-TIMEZONE:America/Chicago
BEGIN:VTIMEZONE
TZID:America/Chicago
BEGIN:STANDARD
TZNAME:CST
DTSTART:20211107T020000
TZOFFSETFROM:-0500
TZOFFSETTO:-0600
RDATE:20221106T020000
END:STANDARD
BEGIN:DAYLIGHT
TZNAME:CDT
DTSTART:20210314T020000
TZOFFSETFROM:-0600
TZOFFSETTO:-0500
RDATE:20220313T020000
RDATE:20230312T020000
END:DAYLIGHT
END:VTIMEZONE
BEGIN:VEVENT
UID:0c189f76-7a43-40e7-8ecc-466d49fa63fe
DTSTAMP:20260425T163048Z
DESCRIPTION:Mighty Tugboat: An Interactive Preschool Class\n\nYou are invit
 ed to a Zoom meeting.\nWhen: Dec 9\, 2021 10:00 AM Central Time (US and Ca
 nada)\n\nRegister in advance for this meeting:\nhttps://us02web.zoom.us/me
 eting/register/tZwtdeCrpzgsHtPNU2fwknc6hAlE17a_Sifr\n\nAfter registering\,
  you will receive a confirmation email containing information about joinin
 g the meeting.
DTSTART;TZID=America/Chicago:20211209T100000
DTEND;TZID=America/Chicago:20211209T103000
LOCATION:
SUMMARY:Mighty Tugboat: An Interactive Preschool Class
END:VEVENT
END:VCALENDAR
