BEGIN:VCALENDAR
VERSION:2.0
PRODID:-//midwestchildcare.org//NONSGML kigkonsult.se iCalcreator 2.30.10//
CALSCALE:GREGORIAN
METHOD:PUBLISH
UID:9bac1dae-9168-4f8f-b3dc-0f283de8e778
X-WR-CALDESC:Mighty Tugboat: An Interactive Preschool Class\n\nYou are invi
 ted to a Zoom meeting.\nWhen: Dec 9\, 2021 09:30 AM Central Time (US and C
 anada)\n\nRegister in advance for this meeting:\nhttps://us02web.zoom.us/m
 eeting/register/tZEvd-2trTkrGdcECnKbAsS5Z8xEVqnZ9Q50\n\nAfter registering\
 , you will receive a confirmation email containing information about joini
 ng the meeting.
X-WR-RELCALID:587e19d25a627e187e3e6a1c91839c5c
X-WR-TIMEZONE:America/Chicago
BEGIN:VTIMEZONE
TZID:America/Chicago
BEGIN:STANDARD
TZNAME:CST
DTSTART:20211107T020000
TZOFFSETFROM:-0500
TZOFFSETTO:-0600
RDATE:20221106T020000
END:STANDARD
BEGIN:DAYLIGHT
TZNAME:CDT
DTSTART:20210314T020000
TZOFFSETFROM:-0600
TZOFFSETTO:-0500
RDATE:20220313T020000
RDATE:20230312T020000
END:DAYLIGHT
END:VTIMEZONE
BEGIN:VEVENT
UID:36710fe6-733b-46ca-a86b-c2a325d983f9
DTSTAMP:20260425T163426Z
DESCRIPTION:Mighty Tugboat: An Interactive Preschool Class\n\nYou are invit
 ed to a Zoom meeting.\nWhen: Dec 9\, 2021 09:30 AM Central Time (US and Ca
 nada)\n\nRegister in advance for this meeting:\nhttps://us02web.zoom.us/me
 eting/register/tZEvd-2trTkrGdcECnKbAsS5Z8xEVqnZ9Q50\n\nAfter registering\,
  you will receive a confirmation email containing information about joinin
 g the meeting.
DTSTART;TZID=America/Chicago:20211209T093000
DTEND;TZID=America/Chicago:20211209T100000
LOCATION:
SUMMARY:Mighty Tugboat: An Interactive Preschool Class
END:VEVENT
END:VCALENDAR
