BEGIN:VCALENDAR
VERSION:2.0
PRODID:-//midwestchildcare.org//NONSGML kigkonsult.se iCalcreator 2.30.10//
CALSCALE:GREGORIAN
METHOD:PUBLISH
UID:78f4ddad-bd77-4c02-808b-83b98120c002
X-WR-CALDESC:Please register for Promoting and supporting Breastfeeding Mom
 s on Dec 7\, 2021 1:00 PM CST at:\n\nhttps://attendee.gotowebinar.com/regi
 ster/4937856561976508173\n\nAfter registering\, you will receive a confirm
 ation email containing information about joining the webinar.
X-WR-RELCALID:982c57679c81232747e06a8c99acb8d6
X-WR-TIMEZONE:America/Chicago
BEGIN:VTIMEZONE
TZID:America/Chicago
BEGIN:STANDARD
TZNAME:CST
DTSTART:20211107T020000
TZOFFSETFROM:-0500
TZOFFSETTO:-0600
RDATE:20221106T020000
END:STANDARD
BEGIN:DAYLIGHT
TZNAME:CDT
DTSTART:20210314T020000
TZOFFSETFROM:-0600
TZOFFSETTO:-0500
RDATE:20220313T020000
RDATE:20230312T020000
END:DAYLIGHT
END:VTIMEZONE
BEGIN:VEVENT
UID:6dae684a-a544-4da8-bbf8-7a67fd63c3e7
DTSTAMP:20260425T162534Z
DESCRIPTION:Please register for Promoting and supporting Breastfeeding Moms
  on Dec 7\, 2021 1:00 PM CST at:\n\nhttps://attendee.gotowebinar.com/regis
 ter/4937856561976508173\n\nAfter registering\, you will receive a confirma
 tion email containing information about joining the webinar.
DTSTART;TZID=America/Chicago:20211207T130000
DTEND;TZID=America/Chicago:20211207T140000
LOCATION:
SUMMARY:Promoting and supporting Breastfeeding Moms | Webinar
END:VEVENT
END:VCALENDAR
