BEGIN:VCALENDAR
VERSION:2.0
PRODID:-//midwestchildcare.org//NONSGML kigkonsult.se iCalcreator 2.30.10//
CALSCALE:GREGORIAN
METHOD:PUBLISH
UID:c3689404-b974-4928-a2c9-614829cc396b
X-WR-CALDESC:Giraffes Can't Dance: An Interactive Preschool Class\n\nYou ar
 e invited to a Zoom meeting.\nWhen: Dec 2\, 2021 09:30 AM Central Time (US
  and Canada)\n\nRegister in advance for this meeting:\nhttps://us02web.zoo
 m.us/meeting/register/tZcld-CqrTkvEtSbqscP2fE0q1ga-4NZCFq4\n\nAfter regist
 ering\, you will receive a confirmation email containing information about
  joining the meeting.
X-WR-RELCALID:045d08b106b3e39fffedfc925523a87b
X-WR-TIMEZONE:America/Chicago
BEGIN:VTIMEZONE
TZID:America/Chicago
BEGIN:STANDARD
TZNAME:CST
DTSTART:20211107T020000
TZOFFSETFROM:-0500
TZOFFSETTO:-0600
RDATE:20221106T020000
END:STANDARD
BEGIN:DAYLIGHT
TZNAME:CDT
DTSTART:20210314T020000
TZOFFSETFROM:-0600
TZOFFSETTO:-0500
RDATE:20220313T020000
RDATE:20230312T020000
END:DAYLIGHT
END:VTIMEZONE
BEGIN:VEVENT
UID:ae2a20cd-c5a7-4402-ba0e-621cf9e75ce3
DTSTAMP:20260425T163501Z
DESCRIPTION:Giraffes Can't Dance: An Interactive Preschool Class\n\nYou are
  invited to a Zoom meeting.\nWhen: Dec 2\, 2021 09:30 AM Central Time (US 
 and Canada)\n\nRegister in advance for this meeting:\nhttps://us02web.zoom
 .us/meeting/register/tZcld-CqrTkvEtSbqscP2fE0q1ga-4NZCFq4\n\nAfter registe
 ring\, you will receive a confirmation email containing information about 
 joining the meeting.
DTSTART;TZID=America/Chicago:20211202T093000
DTEND;TZID=America/Chicago:20211202T100000
LOCATION:
SUMMARY:Giraffes Can't Dance: An Interactive Preschool Class
END:VEVENT
END:VCALENDAR
