BEGIN:VCALENDAR
VERSION:2.0
PRODID:-//midwestchildcare.org//NONSGML kigkonsult.se iCalcreator 2.30.10//
CALSCALE:GREGORIAN
METHOD:PUBLISH
UID:2a190ff8-a1c3-436a-b3e1-5a4b03c0502f
X-WR-CALDESC:Giraffes Can't Dance: An Interactive Preschool Class\n\nYou ar
 e invited to a Zoom meeting.\nWhen: Dec 2\, 2021 09:00 AM Central Time (US
  and Canada)\n\nRegister in advance for this meeting:\nhttps://us02web.zoo
 m.us/meeting/register/tZIlfu2uqDMoE93N-yM2C7ytgjDpQLvtp1Nc\n\nAfter regist
 ering\, you will receive a confirmation email containing information about
  joining the meeting.
X-WR-RELCALID:7f883bd90152343aaf24eb1118344d96
X-WR-TIMEZONE:America/Chicago
BEGIN:VTIMEZONE
TZID:America/Chicago
BEGIN:STANDARD
TZNAME:CST
DTSTART:20211107T020000
TZOFFSETFROM:-0500
TZOFFSETTO:-0600
RDATE:20221106T020000
END:STANDARD
BEGIN:DAYLIGHT
TZNAME:CDT
DTSTART:20210314T020000
TZOFFSETFROM:-0600
TZOFFSETTO:-0500
RDATE:20220313T020000
RDATE:20230312T020000
END:DAYLIGHT
END:VTIMEZONE
BEGIN:VEVENT
UID:3e6e84b1-2968-4909-83ad-cad07ce86336
DTSTAMP:20260425T163059Z
DESCRIPTION:Giraffes Can't Dance: An Interactive Preschool Class\n\nYou are
  invited to a Zoom meeting.\nWhen: Dec 2\, 2021 09:00 AM Central Time (US 
 and Canada)\n\nRegister in advance for this meeting:\nhttps://us02web.zoom
 .us/meeting/register/tZIlfu2uqDMoE93N-yM2C7ytgjDpQLvtp1Nc\n\nAfter registe
 ring\, you will receive a confirmation email containing information about 
 joining the meeting.
DTSTART;TZID=America/Chicago:20211202T090000
DTEND;TZID=America/Chicago:20211202T093000
LOCATION:
SUMMARY:Giraffes Can't Dance: An Interactive Preschool Class
END:VEVENT
END:VCALENDAR
