BEGIN:VCALENDAR
VERSION:2.0
PRODID:-//midwestchildcare.org//NONSGML kigkonsult.se iCalcreator 2.30.10//
CALSCALE:GREGORIAN
METHOD:PUBLISH
UID:30efb9ad-d4cf-474d-b06c-3999ccdcdada
X-WR-CALDESC:Importance of Promoting Health from Infancy\n\nPlease register
  for Importance of Promoting Health from Infancy on Nov 18\, 2021 7:00 PM 
 CST at:\n\nhttps://attendee.gotowebinar.com/register/389366073191891984\n
 \nAfter registering\, you will receive a confirmation email containing inf
 ormation about joining the webinar.
X-WR-RELCALID:d965f52f0384ddb9afbc534871c9fcb2
X-WR-TIMEZONE:America/Chicago
BEGIN:VTIMEZONE
TZID:America/Chicago
BEGIN:STANDARD
TZNAME:CST
DTSTART:20211107T020000
TZOFFSETFROM:-0500
TZOFFSETTO:-0600
RDATE:20221106T020000
END:STANDARD
BEGIN:DAYLIGHT
TZNAME:CDT
DTSTART:20210314T020000
TZOFFSETFROM:-0600
TZOFFSETTO:-0500
RDATE:20220313T020000
RDATE:20230312T020000
END:DAYLIGHT
END:VTIMEZONE
BEGIN:VEVENT
UID:d60acbe1-db0a-4c4b-8199-5c60ed24b013
DTSTAMP:20260424T002505Z
DESCRIPTION:Importance of Promoting Health from Infancy\n\nPlease register 
 for Importance of Promoting Health from Infancy on Nov 18\, 2021 7:00 PM C
 ST at:\n\nhttps://attendee.gotowebinar.com/register/389366073191891984\n\n
 After registering\, you will receive a confirmation email containing infor
 mation about joining the webinar.
DTSTART;TZID=America/Chicago:20211118T190000
DTEND;TZID=America/Chicago:20211118T200000
LOCATION:
SUMMARY:Importance of Promoting Health from Infancy
END:VEVENT
END:VCALENDAR
