BEGIN:VCALENDAR
VERSION:2.0
PRODID:-//midwestchildcare.org//NONSGML kigkonsult.se iCalcreator 2.30.10//
CALSCALE:GREGORIAN
METHOD:PUBLISH
UID:8cc7505b-76ae-461b-a07a-33d15142c9f0
X-WR-CALDESC:Pout Pout Fish Preschool class November 4\, 2021\n\nYou are in
 vited to a Zoom meeting. \nWhen: Nov 4\, 2021 10:00 AM Central Time (US an
 d Canada) \n\nRegister in advance for this meeting:\nhttps://us02web.zoom.
 us/meeting/register/tZIkceChpj4qHNQFm_CxALN6yRJixhyrCrJK \n\nAfter registe
 ring\, you will receive a confirmation email containing information about 
 joining the meeting.
X-WR-RELCALID:500b3ba24343a260cff2539c6e0613a0
X-WR-TIMEZONE:America/Chicago
BEGIN:VTIMEZONE
TZID:America/Chicago
BEGIN:STANDARD
TZNAME:CST
DTSTART:20211107T020000
TZOFFSETFROM:-0500
TZOFFSETTO:-0600
RDATE:20221106T020000
END:STANDARD
BEGIN:DAYLIGHT
TZNAME:CDT
DTSTART:20210314T020000
TZOFFSETFROM:-0600
TZOFFSETTO:-0500
RDATE:20220313T020000
RDATE:20230312T020000
END:DAYLIGHT
END:VTIMEZONE
BEGIN:VEVENT
UID:92f530a0-030a-432e-8e71-c174302848eb
DTSTAMP:20260425T183441Z
DESCRIPTION:Pout Pout Fish Preschool class November 4\, 2021\n\nYou are inv
 ited to a Zoom meeting. \nWhen: Nov 4\, 2021 10:00 AM Central Time (US and
  Canada) \n\nRegister in advance for this meeting:\nhttps://us02web.zoom.u
 s/meeting/register/tZIkceChpj4qHNQFm_CxALN6yRJixhyrCrJK \n\nAfter register
 ing\, you will receive a confirmation email containing information about j
 oining the meeting.
DTSTART;TZID=America/Chicago:20211104T100000
DTEND;TZID=America/Chicago:20211104T103000
LOCATION:
SUMMARY:Pout Pout Fish: An interactive Preschool Class
END:VEVENT
END:VCALENDAR
