BEGIN:VCALENDAR
VERSION:2.0
PRODID:-//midwestchildcare.org//NONSGML kigkonsult.se iCalcreator 2.30.10//
CALSCALE:GREGORIAN
METHOD:PUBLISH
UID:789b05da-2a13-488e-9a37-72962b696599
X-WR-CALDESC:Pout Pout Fish Preschool class November 4\, 2021\n\nYou are in
 vited to a Zoom meeting. \nWhen: Nov 4\, 2021 09:30 AM Central Time (US an
 d Canada) \n\nRegister in advance for this meeting:\nhttps://us02web.zoom.
 us/meeting/register/tZUqdemvqjMoHNf1yHVi9welcP4VnwkY2tkK \n\nAfter registe
 ring\, you will receive a confirmation email containing information about 
 joining the meeting.
X-WR-RELCALID:14c9f62db41ed6e8fb2333d2c6e8a497
X-WR-TIMEZONE:America/Chicago
BEGIN:VTIMEZONE
TZID:America/Chicago
BEGIN:STANDARD
TZNAME:CST
DTSTART:20211107T020000
TZOFFSETFROM:-0500
TZOFFSETTO:-0600
RDATE:20221106T020000
END:STANDARD
BEGIN:DAYLIGHT
TZNAME:CDT
DTSTART:20210314T020000
TZOFFSETFROM:-0600
TZOFFSETTO:-0500
RDATE:20220313T020000
RDATE:20230312T020000
END:DAYLIGHT
END:VTIMEZONE
BEGIN:VEVENT
UID:dc88c562-7528-478f-9554-a9c58b67a295
DTSTAMP:20260425T183349Z
DESCRIPTION:Pout Pout Fish Preschool class November 4\, 2021\n\nYou are inv
 ited to a Zoom meeting. \nWhen: Nov 4\, 2021 09:30 AM Central Time (US and
  Canada) \n\nRegister in advance for this meeting:\nhttps://us02web.zoom.u
 s/meeting/register/tZUqdemvqjMoHNf1yHVi9welcP4VnwkY2tkK \n\nAfter register
 ing\, you will receive a confirmation email containing information about j
 oining the meeting.
DTSTART;TZID=America/Chicago:20211104T093000
DTEND;TZID=America/Chicago:20211104T100000
LOCATION:
SUMMARY:Pout Pout Fish: An interactive Preschool Class
END:VEVENT
END:VCALENDAR
