BEGIN:VCALENDAR
VERSION:2.0
PRODID:-//midwestchildcare.org//NONSGML kigkonsult.se iCalcreator 2.30.10//
CALSCALE:GREGORIAN
METHOD:PUBLISH
UID:e6980538-a76d-490f-ac9c-dc17c0182a72
X-WR-CALDESC:Whole Grains and Health\n\nPlease register for Whole Grains an
 d Health on Nov 1\, 2021 7:00 PM CDT at:\n\nhttps://attendee.gotowebinar.c
 om/register/2470170938037004560\n\nAfter registering\, you will receive a 
 confirmation email containing information about joining the webinar.
X-WR-RELCALID:3c7d88a1e36f4c50d423b96d54ed393c
X-WR-TIMEZONE:America/Chicago
BEGIN:VTIMEZONE
TZID:America/Chicago
BEGIN:STANDARD
TZNAME:CST
DTSTART:20201101T020000
TZOFFSETFROM:-0500
TZOFFSETTO:-0600
RDATE:20211107T020000
RDATE:20221106T020000
END:STANDARD
BEGIN:DAYLIGHT
TZNAME:CDT
DTSTART:20210314T020000
TZOFFSETFROM:-0600
TZOFFSETTO:-0500
RDATE:20220313T020000
RDATE:20230312T020000
END:DAYLIGHT
END:VTIMEZONE
BEGIN:VEVENT
UID:4fe30b9a-61d6-4782-bc00-b7ebcd2f418c
DTSTAMP:20260425T182827Z
DESCRIPTION:Whole Grains and Health\n\nPlease register for Whole Grains and
  Health on Nov 1\, 2021 7:00 PM CDT at:\n\nhttps://attendee.gotowebinar.co
 m/register/2470170938037004560\n\nAfter registering\, you will receive a c
 onfirmation email containing information about joining the webinar.
DTSTART;TZID=America/Chicago:20211101T190000
DTEND;TZID=America/Chicago:20211101T200000
LOCATION:
SUMMARY:Whole Grains and Health
END:VEVENT
END:VCALENDAR
