BEGIN:VCALENDAR
VERSION:2.0
PRODID:-//midwestchildcare.org//NONSGML kigkonsult.se iCalcreator 2.30.10//
CALSCALE:GREGORIAN
METHOD:PUBLISH
UID:69468467-90a6-4a2d-93fb-982b52eec826
X-WR-CALDESC:Please join us as we bring the Ocean to Omaha on Thursday\, Oc
 tober 28\, 2021! The Educational staff at the Hilton Head Coastal Discover
 y Museum will teach us about various marine animals. We will have two diff
 erent 30-minute classes. The first classes is on invertebrate such as crab
 s and shell animals and will go from 8:30am-9am. The second class will go 
 from 9:15am-9:45 and discuss alligators\, sea turtle and snakes. You are w
 elcome to sign up for both classes and get two\, .5 hours of licensing  cr
 edit.  These classes are intended for you and your kiddos to experience to
 gether. \n\nYou are invited to a Zoom meeting. \nWhen: Oct 28\, 2021 08:30
  AM Central Time (US and Canada) \n\nRegister in advance for this meeting:
 \nhttps://us02web.zoom.us/meeting/register/tZMrfu6tqzkiH9SfRvUKCyoEN1H7EPl
 6TvIl \n\nAfter registering\, you will receive a confirmation email contai
 ning information about joining the meeting.
X-WR-RELCALID:de20cab0bc7592f1521e665132d3f84c
X-WR-TIMEZONE:America/Chicago
BEGIN:VTIMEZONE
TZID:America/Chicago
BEGIN:STANDARD
TZNAME:CST
DTSTART:20201101T020000
TZOFFSETFROM:-0500
TZOFFSETTO:-0600
RDATE:20211107T020000
RDATE:20221106T020000
END:STANDARD
BEGIN:DAYLIGHT
TZNAME:CDT
DTSTART:20210314T020000
TZOFFSETFROM:-0600
TZOFFSETTO:-0500
RDATE:20220313T020000
RDATE:20230312T020000
END:DAYLIGHT
END:VTIMEZONE
BEGIN:VEVENT
UID:7f6a6bfe-8385-486f-8b91-df3220a9d064
DTSTAMP:20260425T202921Z
DESCRIPTION:Please join us as we bring the Ocean to Omaha on Thursday\, Oct
 ober 28\, 2021! The Educational staff at the Hilton Head Coastal Discovery
  Museum will teach us about various marine animals. We will have two diffe
 rent 30-minute classes. The first classes is on invertebrate such as crabs
  and shell animals and will go from 8:30am-9am. The second class will go f
 rom 9:15am-9:45 and discuss alligators\, sea turtle and snakes. You are we
 lcome to sign up for both classes and get two\, .5 hours of licensing  cre
 dit.  These classes are intended for you and your kiddos to experience tog
 ether. \n\nYou are invited to a Zoom meeting. \nWhen: Oct 28\, 2021 08:30 
 AM Central Time (US and Canada) \n\nRegister in advance for this meeting:
 \nhttps://us02web.zoom.us/meeting/register/tZMrfu6tqzkiH9SfRvUKCyoEN1H7EPl
 6TvIl \n\nAfter registering\, you will receive a confirmation email contai
 ning information about joining the meeting.
DTSTART;TZID=America/Chicago:20211028T083000
DTEND;TZID=America/Chicago:20211028T090000
LOCATION:
SUMMARY:Ocean to Omaha Invertebrates Interactive Preschool Class
END:VEVENT
END:VCALENDAR
