BEGIN:VCALENDAR
VERSION:2.0
PRODID:-//midwestchildcare.org//NONSGML kigkonsult.se iCalcreator 2.30.10//
CALSCALE:GREGORIAN
METHOD:PUBLISH
UID:2e259d70-db83-41ac-a6a2-4a67a280fc2a
X-WR-CALDESC:You are invited to a Zoom meeting. \nWhen: Oct 21\, 2021 10:00
  AM Central Time (US and Canada) \n\nRegister in advance for this meeting:
 \nhttps://us02web.zoom.us/meeting/register/tZEld--gqDsqGdc_EQGTdS_sTQTFHt6
 tjSOY \n\nAfter registering\, you will receive a confirmation email contai
 ning information about joining the meeting.
X-WR-RELCALID:4250349d3db78c9d8ae7d7b33e08de47
X-WR-TIMEZONE:America/Chicago
BEGIN:VTIMEZONE
TZID:America/Chicago
BEGIN:STANDARD
TZNAME:CST
DTSTART:20201101T020000
TZOFFSETFROM:-0500
TZOFFSETTO:-0600
RDATE:20211107T020000
RDATE:20221106T020000
END:STANDARD
BEGIN:DAYLIGHT
TZNAME:CDT
DTSTART:20210314T020000
TZOFFSETFROM:-0600
TZOFFSETTO:-0500
RDATE:20220313T020000
RDATE:20230312T020000
END:DAYLIGHT
END:VTIMEZONE
BEGIN:VEVENT
UID:017ba722-6979-4b3b-8064-f3bc297c397a
DTSTAMP:20260425T202613Z
DESCRIPTION:You are invited to a Zoom meeting. \nWhen: Oct 21\, 2021 10:00 
 AM Central Time (US and Canada) \n\nRegister in advance for this meeting:
 \nhttps://us02web.zoom.us/meeting/register/tZEld--gqDsqGdc_EQGTdS_sTQTFHt6
 tjSOY \n\nAfter registering\, you will receive a confirmation email contai
 ning information about joining the meeting.
DTSTART;TZID=America/Chicago:20211021T100000
DTEND;TZID=America/Chicago:20211021T103000
LOCATION:
SUMMARY:Monster Trouble: An Interactive Preschool Class
END:VEVENT
END:VCALENDAR
