BEGIN:VCALENDAR
VERSION:2.0
PRODID:-//midwestchildcare.org//NONSGML kigkonsult.se iCalcreator 2.30.10//
CALSCALE:GREGORIAN
METHOD:PUBLISH
UID:5298cbe5-4d71-43bf-8d3b-24abb9a6889f
X-WR-CALDESC:You are invited to a Zoom meeting. \nWhen: Oct 21\, 2021 09:30
  AM Central Time (US and Canada) \n\nRegister in advance for this meeting:
 \nhttps://us02web.zoom.us/meeting/register/tZUrc-ivrDMoGdD8Ia69550ZOc775Qi
 KZjP8 \n\nAfter registering\, you will receive a confirmation email contai
 ning information about joining the meeting.
X-WR-RELCALID:c22c100e976dcd8de4b39179cc6913cf
X-WR-TIMEZONE:America/Chicago
BEGIN:VTIMEZONE
TZID:America/Chicago
BEGIN:STANDARD
TZNAME:CST
DTSTART:20201101T020000
TZOFFSETFROM:-0500
TZOFFSETTO:-0600
RDATE:20211107T020000
RDATE:20221106T020000
END:STANDARD
BEGIN:DAYLIGHT
TZNAME:CDT
DTSTART:20210314T020000
TZOFFSETFROM:-0600
TZOFFSETTO:-0500
RDATE:20220313T020000
RDATE:20230312T020000
END:DAYLIGHT
END:VTIMEZONE
BEGIN:VEVENT
UID:8fc5c57f-577a-4762-806c-2cf561bd0228
DTSTAMP:20260425T202721Z
DESCRIPTION:You are invited to a Zoom meeting. \nWhen: Oct 21\, 2021 09:30 
 AM Central Time (US and Canada) \n\nRegister in advance for this meeting:
 \nhttps://us02web.zoom.us/meeting/register/tZUrc-ivrDMoGdD8Ia69550ZOc775Qi
 KZjP8 \n\nAfter registering\, you will receive a confirmation email contai
 ning information about joining the meeting.
DTSTART;TZID=America/Chicago:20211021T093000
DTEND;TZID=America/Chicago:20211021T100000
LOCATION:
SUMMARY:Monster Trouble: An Interactive Preschool Class
END:VEVENT
END:VCALENDAR
