BEGIN:VCALENDAR
VERSION:2.0
PRODID:-//midwestchildcare.org//NONSGML kigkonsult.se iCalcreator 2.30.10//
CALSCALE:GREGORIAN
METHOD:PUBLISH
UID:16394307-93a3-49a9-934e-8cb0541a78ab
X-WR-CALDESC:You are invited to a Zoom meeting. \nWhen: Oct 21\, 2021 09:00
  AM Central Time (US and Canada) \n\nRegister in advance for this meeting:
 \nhttps://us02web.zoom.us/meeting/register/tZMvf-2hqzgoHdEtfvGdUJKlPLVogTN
 vp8tT \n\nAfter registering\, you will receive a confirmation email contai
 ning information about joining the meeting.
X-WR-RELCALID:9969848d6ca8090fdedec4d670393178
X-WR-TIMEZONE:America/Chicago
BEGIN:VTIMEZONE
TZID:America/Chicago
BEGIN:STANDARD
TZNAME:CST
DTSTART:20201101T020000
TZOFFSETFROM:-0500
TZOFFSETTO:-0600
RDATE:20211107T020000
RDATE:20221106T020000
END:STANDARD
BEGIN:DAYLIGHT
TZNAME:CDT
DTSTART:20210314T020000
TZOFFSETFROM:-0600
TZOFFSETTO:-0500
RDATE:20220313T020000
RDATE:20230312T020000
END:DAYLIGHT
END:VTIMEZONE
BEGIN:VEVENT
UID:8b683371-c9a1-4492-aab3-80933b182213
DTSTAMP:20260425T200659Z
DESCRIPTION:You are invited to a Zoom meeting. \nWhen: Oct 21\, 2021 09:00 
 AM Central Time (US and Canada) \n\nRegister in advance for this meeting:
 \nhttps://us02web.zoom.us/meeting/register/tZMvf-2hqzgoHdEtfvGdUJKlPLVogTN
 vp8tT \n\nAfter registering\, you will receive a confirmation email contai
 ning information about joining the meeting.
DTSTART;TZID=America/Chicago:20211021T090000
DTEND;TZID=America/Chicago:20211021T093000
LOCATION:
SUMMARY:Monster Trouble: An Interactive Preschool Class
END:VEVENT
END:VCALENDAR
