BEGIN:VCALENDAR
VERSION:2.0
PRODID:-//midwestchildcare.org//NONSGML kigkonsult.se iCalcreator 2.30.10//
CALSCALE:GREGORIAN
METHOD:PUBLISH
UID:49dfbdd8-aa41-4fb1-8627-d015dadf29e9
X-WR-CALDESC:Please register for CACFP Plant Based Recipe and Snack Ideas o
 n Oct 19\, 2021 1:00 PM CDT at:\n\nhttps://attendee.gotowebinar.com/regist
 er/5049000693409397262\n\nAfter registering\, you will receive a confirmat
 ion email containing information about joining the webinar.
X-WR-RELCALID:22a0672df13749357d23b59fa9bae9f8
X-WR-TIMEZONE:America/Chicago
BEGIN:VTIMEZONE
TZID:America/Chicago
BEGIN:STANDARD
TZNAME:CST
DTSTART:20201101T020000
TZOFFSETFROM:-0500
TZOFFSETTO:-0600
RDATE:20211107T020000
RDATE:20221106T020000
END:STANDARD
BEGIN:DAYLIGHT
TZNAME:CDT
DTSTART:20210314T020000
TZOFFSETFROM:-0600
TZOFFSETTO:-0500
RDATE:20220313T020000
RDATE:20230312T020000
END:DAYLIGHT
END:VTIMEZONE
BEGIN:VEVENT
UID:198f13ae-a87e-496c-914e-c93d8f9df3e0
DTSTAMP:20260425T202855Z
DESCRIPTION:Please register for CACFP Plant Based Recipe and Snack Ideas on
  Oct 19\, 2021 1:00 PM CDT at:\n\nhttps://attendee.gotowebinar.com/registe
 r/5049000693409397262\n\nAfter registering\, you will receive a confirmati
 on email containing information about joining the webinar.
DTSTART;TZID=America/Chicago:20211019T130000
DTEND;TZID=America/Chicago:20211019T140000
LOCATION:
SUMMARY:Webinar: CACFP Plant Based Recipe and Snack Ideas
END:VEVENT
END:VCALENDAR
