BEGIN:VCALENDAR
VERSION:2.0
PRODID:-//midwestchildcare.org//NONSGML kigkonsult.se iCalcreator 2.30.10//
CALSCALE:GREGORIAN
METHOD:PUBLISH
UID:2e085330-29b4-4a6c-8e49-6ddb18dbd291
X-WR-CALDESC:1. Please register for Discover the Benefits of a Plant Based 
 DIet on Oct 12\, 2021 1:00 PM CDT at:\n\nhttps://attendee.gotowebinar.com/
 register/3102712280129591566\n\nAfter registering\, you will receive a con
 firmation email containing information about joining the webinar.
X-WR-RELCALID:203778a290dc5db2b722d50ffad75e35
X-WR-TIMEZONE:America/Chicago
BEGIN:VTIMEZONE
TZID:America/Chicago
BEGIN:STANDARD
TZNAME:CST
DTSTART:20201101T020000
TZOFFSETFROM:-0500
TZOFFSETTO:-0600
RDATE:20211107T020000
RDATE:20221106T020000
END:STANDARD
BEGIN:DAYLIGHT
TZNAME:CDT
DTSTART:20210314T020000
TZOFFSETFROM:-0600
TZOFFSETTO:-0500
RDATE:20220313T020000
RDATE:20230312T020000
END:DAYLIGHT
END:VTIMEZONE
BEGIN:VEVENT
UID:9115d0d1-9a81-4e2a-b186-05e21ec0b9c9
DTSTAMP:20260425T203206Z
DESCRIPTION:1. Please register for Discover the Benefits of a Plant Based D
 Iet on Oct 12\, 2021 1:00 PM CDT at:\n\nhttps://attendee.gotowebinar.com/r
 egister/3102712280129591566\n\nAfter registering\, you will receive a conf
 irmation email containing information about joining the webinar.
DTSTART;TZID=America/Chicago:20211012T130000
DTEND;TZID=America/Chicago:20211012T140000
LOCATION:
SUMMARY:Webinar: Discover the Benefits of a Plant Based Diet
END:VEVENT
END:VCALENDAR
