BEGIN:VCALENDAR
VERSION:2.0
PRODID:-//midwestchildcare.org//NONSGML kigkonsult.se iCalcreator 2.30.10//
CALSCALE:GREGORIAN
METHOD:PUBLISH
UID:b34d8595-03c1-4c3d-a247-ebd4e525ddb4
X-WR-CALDESC:You are invited to a Zoom meeting. \nWhen: Oct 7\, 2021 10:00 
 AM Central Time (US and Canada) \n\nRegister in advance for this meeting:
 \nhttps://us02web.zoom.us/meeting/register/tZYkcOytpzItGdQJZ0XIHO4EWMYB2iI
 saGJt \n\nAfter registering\, you will receive a confirmation email contai
 ning information about joining the meeting.
X-WR-RELCALID:ae65ce26a200e660d66e49cf87d92f95
X-WR-TIMEZONE:America/Chicago
BEGIN:VTIMEZONE
TZID:America/Chicago
BEGIN:STANDARD
TZNAME:CST
DTSTART:20201101T020000
TZOFFSETFROM:-0500
TZOFFSETTO:-0600
RDATE:20211107T020000
RDATE:20221106T020000
END:STANDARD
BEGIN:DAYLIGHT
TZNAME:CDT
DTSTART:20210314T020000
TZOFFSETFROM:-0600
TZOFFSETTO:-0500
RDATE:20220313T020000
RDATE:20230312T020000
END:DAYLIGHT
END:VTIMEZONE
BEGIN:VEVENT
UID:4bcad615-f27f-4036-a651-bd3c46becb95
DTSTAMP:20260425T203028Z
DESCRIPTION:You are invited to a Zoom meeting. \nWhen: Oct 7\, 2021 10:00 A
 M Central Time (US and Canada) \n\nRegister in advance for this meeting:\n
 https://us02web.zoom.us/meeting/register/tZYkcOytpzItGdQJZ0XIHO4EWMYB2iIsa
 GJt \n\nAfter registering\, you will receive a confirmation email containi
 ng information about joining the meeting.
DTSTART;TZID=America/Chicago:20211007T100000
DTEND;TZID=America/Chicago:20211007T110000
LOCATION:
SUMMARY:Dogs Colorful Day: An Interactive Preschool Class
END:VEVENT
END:VCALENDAR
